BEGIN:VCALENDAR
VERSION:2.0
PRODID:-//Onderwatergroep Neptunus//NONSGML kigkonsult.se iCalcreator 2.30.
 10//
CALSCALE:GREGORIAN
METHOD:PUBLISH
UID:8f0fd1f9-dca1-4f45-94d6-7346414eb495
X-WR-CALNAME:iCagenda
X-WR-CALDESC:Event Management Extension for Joomla!
X-WR-RELCALID:3E26604A-50F4-4449-8B3E-E4F4932D05B5
X-WR-TIMEZONE:Europe/Amsterdam
BEGIN:VTIMEZONE
TZID:Europe/Amsterdam
BEGIN:STANDARD
TZNAME:CET
DTSTART:20251026T030000
TZOFFSETFROM:+0200
TZOFFSETTO:+0100
RDATE:20261025T030000
END:STANDARD
BEGIN:DAYLIGHT
TZNAME:CEST
DTSTART:20250330T020000
TZOFFSETFROM:+0100
TZOFFSETTO:+0200
RDATE:20260329T020000
RDATE:20270328T020000
END:DAYLIGHT
END:VTIMEZONE
BEGIN:VEVENT
UID:a8860b64-321d-4998-a595-150fe5eb37ef
DTSTAMP:20260420T103704Z
CATEGORIES:Dive World
CLASS:PUBLIC
DESCRIPTION:
DTSTART:20260206T180000Z
DTEND:20260206T200000Z
GEO:00;0
LOCATION:
ORGANIZER:
SEQUENCE:1
SUMMARY:training duiktoren
TRANSP:OPAQUE
URL:https://www.owg-neptunus.nl/index.php/component/icagenda/967-training-d
 uiktoren?Itemid=101
END:VEVENT
END:VCALENDAR
