BEGIN:VCALENDAR
VERSION:2.0
PRODID:-//Onderwatergroep Neptunus//NONSGML kigkonsult.se iCalcreator 2.30.
 10//
CALSCALE:GREGORIAN
METHOD:PUBLISH
UID:220ecd5f-0a55-4d52-8297-e15bc97bd382
X-WR-CALNAME:iCagenda
X-WR-CALDESC:Event Management Extension for Joomla!
X-WR-RELCALID:3E26604A-50F4-4449-8B3E-E4F4932D05B5
X-WR-TIMEZONE:Europe/Amsterdam
BEGIN:VTIMEZONE
TZID:Europe/Amsterdam
BEGIN:STANDARD
TZNAME:CET
DTSTART:20251026T030000
TZOFFSETFROM:+0200
TZOFFSETTO:+0100
RDATE:20261025T030000
END:STANDARD
BEGIN:DAYLIGHT
TZNAME:CEST
DTSTART:20260329T020000
TZOFFSETFROM:+0100
TZOFFSETTO:+0200
RDATE:20270328T020000
END:DAYLIGHT
END:VTIMEZONE
BEGIN:VEVENT
UID:3d40b267-86fa-49b6-9013-f43c7ea160b4
DTSTAMP:20260420T040012Z
CATEGORIES:Training 50m sportbad
CLASS:PUBLIC
DESCRIPTION:
DTSTART:20260418T150000Z
DTEND:20260418T160000Z
GEO:00;0
LOCATION:
ORGANIZER:
SEQUENCE:1
SUMMARY:Training 50m sportbad
TRANSP:OPAQUE
URL:https://www.owg-neptunus.nl/index.php/component/icagenda/955-training-5
 0m-sportbad-9?Itemid=101
END:VEVENT
END:VCALENDAR
