BEGIN:VCALENDAR
VERSION:2.0
PRODID:-//Onderwatergroep Neptunus//NONSGML kigkonsult.se iCalcreator 2.30.
 10//
CALSCALE:GREGORIAN
METHOD:PUBLISH
UID:7a1d36dd-40f4-452c-bad2-093f9721876e
X-WR-CALNAME:iCagenda
X-WR-CALDESC:Event Management Extension for Joomla!
X-WR-RELCALID:3E26604A-50F4-4449-8B3E-E4F4932D05B5
X-WR-TIMEZONE:Europe/Amsterdam
BEGIN:VTIMEZONE
TZID:Europe/Amsterdam
BEGIN:STANDARD
TZNAME:CET
DTSTART:20251026T030000
TZOFFSETFROM:+0200
TZOFFSETTO:+0100
RDATE:20261025T030000
END:STANDARD
BEGIN:DAYLIGHT
TZNAME:CEST
DTSTART:20250330T020000
TZOFFSETFROM:+0100
TZOFFSETTO:+0200
RDATE:20260329T020000
RDATE:20270328T020000
END:DAYLIGHT
END:VTIMEZONE
BEGIN:VEVENT
UID:e2f5b202-43bf-49eb-bde1-f3b5fc4bb239
DTSTAMP:20260420T120927Z
CATEGORIES:Evenementen
CLASS:PUBLIC
DESCRIPTION:
DTSTART:20251220T160000Z
DTEND:20251220T170000Z
GEO:00;0
LOCATION:
ORGANIZER:
SEQUENCE:1
SUMMARY:Laatste training Doelgroepenbad\, patatje na de tijd!
TRANSP:OPAQUE
URL:https://www.owg-neptunus.nl/index.php/component/icagenda/936-training-d
 oelgroepenbad-introducees-welkom?Itemid=101
END:VEVENT
END:VCALENDAR
