BEGIN:VCALENDAR
VERSION:2.0
PRODID:-//Onderwatergroep Neptunus//NONSGML kigkonsult.se iCalcreator 2.30.
 10//
CALSCALE:GREGORIAN
METHOD:PUBLISH
UID:f6c6d88d-322e-476c-a220-295092180772
X-WR-CALNAME:iCagenda
X-WR-CALDESC:Event Management Extension for Joomla!
X-WR-RELCALID:3E26604A-50F4-4449-8B3E-E4F4932D05B5
X-WR-TIMEZONE:Europe/Amsterdam
BEGIN:VTIMEZONE
TZID:Europe/Amsterdam
BEGIN:STANDARD
TZNAME:CET
DTSTART:20251026T030000
TZOFFSETFROM:+0200
TZOFFSETTO:+0100
RDATE:20261025T030000
END:STANDARD
BEGIN:DAYLIGHT
TZNAME:CEST
DTSTART:20250330T020000
TZOFFSETFROM:+0100
TZOFFSETTO:+0200
RDATE:20260329T020000
RDATE:20270328T020000
END:DAYLIGHT
END:VTIMEZONE
BEGIN:VEVENT
UID:9ea4e2ce-3308-49d9-9cab-2782e1773189
DTSTAMP:20260420T134412Z
CATEGORIES:Training Belangrijk
CLASS:PUBLIC
DESCRIPTION:
DTSTART:20251213T160000Z
DTEND:20251213T170000Z
GEO:00;0
LOCATION:
ORGANIZER:
SEQUENCE:1
SUMMARY:Training 50m sportbad
TRANSP:OPAQUE
URL:https://www.owg-neptunus.nl/index.php/component/icagenda/935-training-5
 0m-sportbad?Itemid=101
END:VEVENT
END:VCALENDAR
