BEGIN:VCALENDAR
VERSION:2.0
PRODID:-//Onderwatergroep Neptunus//NONSGML kigkonsult.se iCalcreator 2.30.
 10//
CALSCALE:GREGORIAN
METHOD:PUBLISH
UID:2f6c836d-70fc-4fde-8a46-8ccee455d6ad
X-WR-CALNAME:iCagenda
X-WR-CALDESC:Event Management Extension for Joomla!
X-WR-RELCALID:3E26604A-50F4-4449-8B3E-E4F4932D05B5
X-WR-TIMEZONE:Europe/Amsterdam
BEGIN:VTIMEZONE
TZID:Europe/Amsterdam
BEGIN:STANDARD
TZNAME:CET
DTSTART:20251026T030000
TZOFFSETFROM:+0200
TZOFFSETTO:+0100
RDATE:20261025T030000
END:STANDARD
BEGIN:DAYLIGHT
TZNAME:CEST
DTSTART:20250330T020000
TZOFFSETFROM:+0100
TZOFFSETTO:+0200
RDATE:20260329T020000
RDATE:20270328T020000
END:DAYLIGHT
END:VTIMEZONE
BEGIN:VEVENT
UID:db1a4ba6-8094-48ec-94a7-e0030bef0b1c
DTSTAMP:20260420T120927Z
CATEGORIES:Training Belangrijk
CLASS:PUBLIC
DESCRIPTION:
DTSTART:20251206T163000Z
DTEND:20251206T173000Z
GEO:00;0
LOCATION:
ORGANIZER:
SEQUENCE:1
SUMMARY:Training 50m sportbad\, introducees welkom!
TRANSP:OPAQUE
URL:https://www.owg-neptunus.nl/index.php/component/icagenda/934-training-5
 0m-sportbad-introducees-welkom-4?Itemid=101
END:VEVENT
END:VCALENDAR
