BEGIN:VCALENDAR
VERSION:2.0
PRODID:-//Onderwatergroep Neptunus//NONSGML kigkonsult.se iCalcreator 2.30.
 10//
CALSCALE:GREGORIAN
METHOD:PUBLISH
UID:956fa774-89d0-4e3d-b434-2a057c40661f
X-WR-CALNAME:iCagenda
X-WR-CALDESC:Event Management Extension for Joomla!
X-WR-RELCALID:3E26604A-50F4-4449-8B3E-E4F4932D05B5
X-WR-TIMEZONE:Europe/Amsterdam
BEGIN:VTIMEZONE
TZID:Europe/Amsterdam
BEGIN:STANDARD
TZNAME:CET
DTSTART:20251026T030000
TZOFFSETFROM:+0200
TZOFFSETTO:+0100
RDATE:20261025T030000
END:STANDARD
BEGIN:DAYLIGHT
TZNAME:CEST
DTSTART:20250330T020000
TZOFFSETFROM:+0100
TZOFFSETTO:+0200
RDATE:20260329T020000
RDATE:20270328T020000
END:DAYLIGHT
END:VTIMEZONE
BEGIN:VEVENT
UID:fdab7651-2bc3-4211-85c6-7b4704e92351
DTSTAMP:20260420T133713Z
CATEGORIES:Training Belangrijk
CLASS:PUBLIC
DESCRIPTION:
DTSTART:20251129T160000Z
DTEND:20251129T170000Z
GEO:00;0
LOCATION:
ORGANIZER:
SEQUENCE:1
SUMMARY:Training 50m sportbad\, introducees welkom!
TRANSP:OPAQUE
URL:https://www.owg-neptunus.nl/index.php/component/icagenda/933-training-5
 0m-sportbad-introducees-welkom-3?Itemid=101
END:VEVENT
END:VCALENDAR
