BEGIN:VCALENDAR
VERSION:2.0
PRODID:-//Onderwatergroep Neptunus//NONSGML kigkonsult.se iCalcreator 2.30.
 10//
CALSCALE:GREGORIAN
METHOD:PUBLISH
UID:9790a247-dc77-4a47-9837-34124d9771a6
X-WR-CALNAME:iCagenda
X-WR-CALDESC:Event Management Extension for Joomla!
X-WR-RELCALID:3E26604A-50F4-4449-8B3E-E4F4932D05B5
X-WR-TIMEZONE:Europe/Amsterdam
BEGIN:VTIMEZONE
TZID:Europe/Amsterdam
BEGIN:STANDARD
TZNAME:CET
DTSTART:20241027T030000
TZOFFSETFROM:+0200
TZOFFSETTO:+0100
RDATE:20251026T030000
RDATE:20261025T030000
END:STANDARD
BEGIN:DAYLIGHT
TZNAME:CEST
DTSTART:20250330T020000
TZOFFSETFROM:+0100
TZOFFSETTO:+0200
RDATE:20260329T020000
END:DAYLIGHT
END:VTIMEZONE
BEGIN:VEVENT
UID:50bf94fd-8aef-45f4-b580-28385cabc272
DTSTAMP:20260422T101235Z
CATEGORIES:Doelgroepenbad
CLASS:PUBLIC
DESCRIPTION:
DTSTART:20250503T150000Z
DTEND:20250503T160000Z
GEO:00;0
LOCATION:Twentebad\, lage weide 3\, Hengelo
ORGANIZER:
SEQUENCE:1
SUMMARY:Snorkel- en conditietraining\; tevens vrije training in het 25m bad
TRANSP:OPAQUE
URL:https://www.owg-neptunus.nl/index.php/component/icagenda/885-snorkel-en
 -conditietraining-tevens-vrije-training-met-introducees?Itemid=101
END:VEVENT
END:VCALENDAR
