BEGIN:VCALENDAR
VERSION:2.0
PRODID:-//Onderwatergroep Neptunus//NONSGML kigkonsult.se iCalcreator 2.30.
 10//
CALSCALE:GREGORIAN
METHOD:PUBLISH
UID:1e885f74-012a-44c4-813c-316a0be6c367
X-WR-CALNAME:iCagenda
X-WR-CALDESC:Event Management Extension for Joomla!
X-WR-RELCALID:3E26604A-50F4-4449-8B3E-E4F4932D05B5
X-WR-TIMEZONE:Europe/Amsterdam
BEGIN:VTIMEZONE
TZID:Europe/Amsterdam
BEGIN:STANDARD
TZNAME:CET
DTSTART:20241027T030000
TZOFFSETFROM:+0200
TZOFFSETTO:+0100
RDATE:20251026T030000
RDATE:20261025T030000
END:STANDARD
BEGIN:DAYLIGHT
TZNAME:CEST
DTSTART:20250330T020000
TZOFFSETFROM:+0100
TZOFFSETTO:+0200
RDATE:20260329T020000
END:DAYLIGHT
END:VTIMEZONE
BEGIN:VEVENT
UID:0b302c6f-bbab-4f47-8403-3fc4cc464020
DTSTAMP:20260420T103631Z
CATEGORIES:Training Belangrijk
CLASS:PUBLIC
DESCRIPTION:
DTSTART:20250628T150000Z
DTEND:20250628T163000Z
GEO:00;0
LOCATION:Twentebad\, lage weide 3\, Hengelo
ORGANIZER:
SEQUENCE:1
SUMMARY:50m sportbad Snorkel- en conditietraining\; vrije training\; Cursus
  onderwater Oriëntatie
TRANSP:OPAQUE
URL:https://www.owg-neptunus.nl/index.php/component/icagenda/881-snorkel-en
 -conditietraining-incl-introducees-50m-sportbad?Itemid=101
END:VEVENT
END:VCALENDAR
