BEGIN:VCALENDAR
VERSION:2.0
PRODID:-//Onderwatergroep Neptunus//NONSGML kigkonsult.se iCalcreator 2.30.
 10//
CALSCALE:GREGORIAN
METHOD:PUBLISH
UID:35588166-b0a3-4f3d-9035-90638c60a8d2
X-WR-CALNAME:iCagenda
X-WR-CALDESC:Event Management Extension for Joomla!
X-WR-RELCALID:3E26604A-50F4-4449-8B3E-E4F4932D05B5
X-WR-TIMEZONE:Europe/Amsterdam
BEGIN:VTIMEZONE
TZID:Europe/Amsterdam
BEGIN:STANDARD
TZNAME:CET
DTSTART:20241027T030000
TZOFFSETFROM:+0200
TZOFFSETTO:+0100
RDATE:20251026T030000
RDATE:20261025T030000
END:STANDARD
BEGIN:DAYLIGHT
TZNAME:CEST
DTSTART:20250330T020000
TZOFFSETFROM:+0100
TZOFFSETTO:+0200
RDATE:20260329T020000
END:DAYLIGHT
END:VTIMEZONE
BEGIN:VEVENT
UID:b938ccc7-4d28-41ad-af12-443b287de51e
DTSTAMP:20260420T103516Z
CATEGORIES:Doelgroepenbad
CLASS:PUBLIC
DESCRIPTION:
DTSTART:20250621T150000Z
DTEND:20250621T160000Z
GEO:00;0
LOCATION:Twentebad\, lage weide 3\, Hengelo
ORGANIZER:
SEQUENCE:1
SUMMARY:Snorkel- en conditietraining\; tevens vrije training
TRANSP:OPAQUE
URL:https://www.owg-neptunus.nl/index.php/component/icagenda/880-snorkel-en
 -conditietraining-tevens-vrije-training-36?Itemid=101
END:VEVENT
END:VCALENDAR
