BEGIN:VCALENDAR
VERSION:2.0
PRODID:-//Onderwatergroep Neptunus//NONSGML kigkonsult.se iCalcreator 2.30.
 10//
CALSCALE:GREGORIAN
METHOD:PUBLISH
UID:df090a03-c0bc-461f-9e1a-263a063c8f7a
X-WR-CALNAME:iCagenda
X-WR-CALDESC:Event Management Extension for Joomla!
X-WR-RELCALID:3E26604A-50F4-4449-8B3E-E4F4932D05B5
X-WR-TIMEZONE:Europe/Amsterdam
BEGIN:VTIMEZONE
TZID:Europe/Amsterdam
BEGIN:STANDARD
TZNAME:CET
DTSTART:20241027T030000
TZOFFSETFROM:+0200
TZOFFSETTO:+0100
RDATE:20251026T030000
END:STANDARD
BEGIN:DAYLIGHT
TZNAME:CEST
DTSTART:20240331T020000
TZOFFSETFROM:+0100
TZOFFSETTO:+0200
RDATE:20250330T020000
RDATE:20260329T020000
END:DAYLIGHT
END:VTIMEZONE
BEGIN:VEVENT
UID:741061a7-9738-465f-a5b0-c15349637232
DTSTAMP:20260420T120008Z
CATEGORIES:Evenementen
CLASS:PUBLIC
DESCRIPTION;ALTREP="CID:<FFFF__=0ABBE548DFE235B58f9e8a93d@coffeebean.com>":
 Nieuwjaarswandeling zondag 5 januari 2025Zoals gebruikelijk gaan we met de
  liefhebbers op deze 1ezondag van het nieuwe jaar wandelen. Familieleden e
 n vrienden zijn van harte welkom om mee te lopen. We hebben een prachtige 
 wandeling uitgezet van ruim een uur in langs de Dinkel. Onderweg is er zoa
 ls gebruikelijk de warme chocolademelk (met een kruidenbitter voor de lief
 hebber). We verzamelen om 10.30 uur bij de parkeerplaats voor het Paviljoe
 n Lutterzand\, Lutterzandweg 12\, 7587 LH De LutteDaarna gaan we met elkaa
 r (op eigen kosten) pannenkoeken eten bij De Stroper\, Bentheimerstraat 25
 \, 7587 ND De Lutte. Uiteraard zijn de mensen die alleen een pannenkoek wi
 llen eten ook van harte welkom. We verwachten om omstreeks 12.30 uur daar 
 met de wandelgroep aan te komen.Je kunt je belangstelling kenbaar maken bi
 j de organisatoren Michel Leussink Michel Leussink (leussink@gmail.com) of
  Paul Horsthuis (paul@horsthuis.nl).We kijken uit naar een mooie wandeling
 \, goede gesprekken onderweg en een lekkere pannenkoek.
DTSTART:20250105T093000Z
DTEND:20250105T130000Z
GEO:00;0
LOCATION:
ORGANIZER:
SEQUENCE:1
SUMMARY:Nieuwjaarswandeling 5 januari 2025
TRANSP:OPAQUE
URL:https://www.owg-neptunus.nl/index.php/component/icagenda/864-nieuwjaars
 wandeling-5-januari-2025?Itemid=101
END:VEVENT
END:VCALENDAR
