BEGIN:VCALENDAR
VERSION:2.0
PRODID:-//Onderwatergroep Neptunus//NONSGML kigkonsult.se iCalcreator 2.30.
 10//
CALSCALE:GREGORIAN
METHOD:PUBLISH
UID:2205a79f-52d0-4f37-b3f7-f2209f37c5b6
X-WR-CALNAME:iCagenda
X-WR-CALDESC:Event Management Extension for Joomla!
X-WR-RELCALID:3E26604A-50F4-4449-8B3E-E4F4932D05B5
X-WR-TIMEZONE:Europe/Amsterdam
BEGIN:VTIMEZONE
TZID:Europe/Amsterdam
BEGIN:STANDARD
TZNAME:CET
DTSTART:20241027T030000
TZOFFSETFROM:+0200
TZOFFSETTO:+0100
RDATE:20251026T030000
END:STANDARD
BEGIN:DAYLIGHT
TZNAME:CEST
DTSTART:20240331T020000
TZOFFSETFROM:+0100
TZOFFSETTO:+0200
RDATE:20250330T020000
RDATE:20260329T020000
END:DAYLIGHT
END:VTIMEZONE
BEGIN:VEVENT
UID:588e0bfa-65e6-4122-81a4-1aaf772e3bfc
DTSTAMP:20260420T180658Z
CATEGORIES:Doelgroepenbad
CLASS:PUBLIC
DESCRIPTION:
DTSTART:20241207T160000Z
DTEND:20241207T173000Z
GEO:00;0
LOCATION:Twentebad\; Lage Weide 3 \; Hengelo
ORGANIZER:
SEQUENCE:1
SUMMARY:Snorkel- en conditietraining in het 50m sportbad\; tevens vrije tra
 ining\;
TRANSP:OPAQUE
URL:https://www.owg-neptunus.nl/index.php/component/icagenda/860-snorkel-en
 -conditietraining-tevens-vrije-training-recreatiebad-introducees-welkom-2?
 Itemid=101
END:VEVENT
END:VCALENDAR
