BEGIN:VCALENDAR
VERSION:2.0
PRODID:-//Onderwatergroep Neptunus//NONSGML kigkonsult.se iCalcreator 2.30.
 10//
CALSCALE:GREGORIAN
METHOD:PUBLISH
UID:ec090197-6637-4526-82b0-5ad51b75852d
X-WR-CALNAME:iCagenda
X-WR-CALDESC:Event Management Extension for Joomla!
X-WR-RELCALID:3E26604A-50F4-4449-8B3E-E4F4932D05B5
X-WR-TIMEZONE:Europe/Amsterdam
BEGIN:VTIMEZONE
TZID:Europe/Amsterdam
BEGIN:STANDARD
TZNAME:CET
DTSTART:20231029T030000
TZOFFSETFROM:+0200
TZOFFSETTO:+0100
RDATE:20241027T030000
RDATE:20251026T030000
END:STANDARD
BEGIN:DAYLIGHT
TZNAME:CEST
DTSTART:20240331T020000
TZOFFSETFROM:+0100
TZOFFSETTO:+0200
RDATE:20250330T020000
END:DAYLIGHT
END:VTIMEZONE
BEGIN:VEVENT
UID:eb14faa2-957a-4f4f-ad70-d26e92835bab
DTSTAMP:20260422T141704Z
CATEGORIES:Duiken
CLASS:PUBLIC
DESCRIPTION:
DTSTART:20240609T080000Z
DTEND:20240609T210400Z
GEO:00;0
LOCATION:Bronsbergen 25\, 7207 AD Zutphen
ORGANIZER:
SEQUENCE:1
SUMMARY:Buitenduik Bronsbergenmeer Noord
TRANSP:OPAQUE
URL:https://www.owg-neptunus.nl/index.php/component/icagenda/831-buitenduik
 -bronsbergenmeer-noord-6?Itemid=101
END:VEVENT
END:VCALENDAR
