BEGIN:VCALENDAR
VERSION:2.0
PRODID:-//Onderwatergroep Neptunus//NONSGML kigkonsult.se iCalcreator 2.30.
 10//
CALSCALE:GREGORIAN
METHOD:PUBLISH
UID:789fa073-0ac2-4af3-a01d-7ea57ee4b825
X-WR-CALNAME:iCagenda
X-WR-CALDESC:Event Management Extension for Joomla!
X-WR-RELCALID:3E26604A-50F4-4449-8B3E-E4F4932D05B5
X-WR-TIMEZONE:Europe/Amsterdam
BEGIN:VTIMEZONE
TZID:Europe/Amsterdam
BEGIN:STANDARD
TZNAME:CET
DTSTART:20231029T030000
TZOFFSETFROM:+0200
TZOFFSETTO:+0100
RDATE:20241027T030000
RDATE:20251026T030000
END:STANDARD
BEGIN:DAYLIGHT
TZNAME:CEST
DTSTART:20240331T020000
TZOFFSETFROM:+0100
TZOFFSETTO:+0200
RDATE:20250330T020000
END:DAYLIGHT
END:VTIMEZONE
BEGIN:VEVENT
UID:40bb041d-7624-4aeb-8608-7f303a62d1d7
DTSTAMP:20260420T133247Z
CATEGORIES:Duiken
CLASS:PUBLIC
DESCRIPTION:
DTSTART:20240707T080000Z
DTEND:20240707T100000Z
GEO:00;0
LOCATION:Bussloo
ORGANIZER:
SEQUENCE:1
SUMMARY:Buitenduik Bussloo (n.b. vanwege evenement in Lingen verplaatst)
TRANSP:OPAQUE
URL:https://www.owg-neptunus.nl/index.php/component/icagenda/829-buitenduik
 -lingen-geeste-4?Itemid=101
END:VEVENT
END:VCALENDAR
