BEGIN:VCALENDAR
VERSION:2.0
PRODID:-//Onderwatergroep Neptunus//NONSGML kigkonsult.se iCalcreator 2.30.
 10//
CALSCALE:GREGORIAN
METHOD:PUBLISH
UID:90f963ee-427c-47c4-9480-f55e76fb51cd
X-WR-CALNAME:iCagenda
X-WR-CALDESC:Event Management Extension for Joomla!
X-WR-RELCALID:3E26604A-50F4-4449-8B3E-E4F4932D05B5
X-WR-TIMEZONE:Europe/Amsterdam
BEGIN:VTIMEZONE
TZID:Europe/Amsterdam
BEGIN:STANDARD
TZNAME:CET
DTSTART:20231029T030000
TZOFFSETFROM:+0200
TZOFFSETTO:+0100
RDATE:20241027T030000
RDATE:20251026T030000
END:STANDARD
BEGIN:DAYLIGHT
TZNAME:CEST
DTSTART:20240331T020000
TZOFFSETFROM:+0100
TZOFFSETTO:+0200
RDATE:20250330T020000
END:DAYLIGHT
END:VTIMEZONE
BEGIN:VEVENT
UID:ab5b17ce-8469-4839-8757-0f6eba29a0c4
DTSTAMP:20260422T112753Z
CATEGORIES:Duiken
CLASS:PUBLIC
DESCRIPTION:
DTSTART:20240623T080000Z
DTEND:20240623T100000Z
GEO:00;0
LOCATION:Bussloo DuikzoneBussloo
ORGANIZER:
SEQUENCE:1
SUMMARY:Buitenduik Bussloo
TRANSP:OPAQUE
URL:https://www.owg-neptunus.nl/index.php/component/icagenda/827-buitenduik
 -bussloo-boothelling?Itemid=101
END:VEVENT
END:VCALENDAR
