BEGIN:VCALENDAR
VERSION:2.0
PRODID:-//Onderwatergroep Neptunus//NONSGML kigkonsult.se iCalcreator 2.30.
 10//
CALSCALE:GREGORIAN
METHOD:PUBLISH
UID:f4ac0f15-3b2d-46ed-a1be-639dd6948c86
X-WR-CALNAME:iCagenda
X-WR-CALDESC:Event Management Extension for Joomla!
X-WR-RELCALID:3E26604A-50F4-4449-8B3E-E4F4932D05B5
X-WR-TIMEZONE:Europe/Amsterdam
BEGIN:VTIMEZONE
TZID:Europe/Amsterdam
BEGIN:STANDARD
TZNAME:CET
DTSTART:20231029T030000
TZOFFSETFROM:+0200
TZOFFSETTO:+0100
RDATE:20241027T030000
RDATE:20251026T030000
END:STANDARD
BEGIN:DAYLIGHT
TZNAME:CEST
DTSTART:20240331T020000
TZOFFSETFROM:+0100
TZOFFSETTO:+0200
RDATE:20250330T020000
END:DAYLIGHT
END:VTIMEZONE
BEGIN:VEVENT
UID:2c16efe5-8309-486e-8070-1480be9fea4c
DTSTAMP:20260422T112715Z
CATEGORIES:Duiken
CLASS:PUBLIC
DESCRIPTION:
DTSTART:20240614T080000Z
DTEND:20240616T140000Z
GEO:00;0
LOCATION:Camping De Witte Boulevard\, Zeedistelweg 10\, 4325 BM Renesse (Ze
 eland)
ORGANIZER:
SEQUENCE:1
SUMMARY:Zeelandweekend
TRANSP:OPAQUE
URL:https://www.owg-neptunus.nl/index.php/component/icagenda/826-zeelandwee
 kend-3?Itemid=101
END:VEVENT
END:VCALENDAR
