BEGIN:VCALENDAR
VERSION:2.0
PRODID:-//Onderwatergroep Neptunus//NONSGML kigkonsult.se iCalcreator 2.30.
 10//
CALSCALE:GREGORIAN
METHOD:PUBLISH
UID:cb359e69-10ed-43b5-a0ea-223654e92d44
X-WR-CALNAME:iCagenda
X-WR-CALDESC:Event Management Extension for Joomla!
X-WR-RELCALID:3E26604A-50F4-4449-8B3E-E4F4932D05B5
X-WR-TIMEZONE:Europe/Amsterdam
BEGIN:VTIMEZONE
TZID:Europe/Amsterdam
BEGIN:STANDARD
TZNAME:CET
DTSTART:20231029T030000
TZOFFSETFROM:+0200
TZOFFSETTO:+0100
RDATE:20241027T030000
END:STANDARD
BEGIN:DAYLIGHT
TZNAME:CEST
DTSTART:20240331T020000
TZOFFSETFROM:+0100
TZOFFSETTO:+0200
RDATE:20250330T020000
END:DAYLIGHT
END:VTIMEZONE
BEGIN:VEVENT
UID:e45ddea0-761e-4750-b08b-aef97d3cffa0
DTSTAMP:20260422T101307Z
CATEGORIES:Duiken
CLASS:PUBLIC
DESCRIPTION:
DTSTART:20240401T090000Z
DTEND:20240401T110000Z
GEO:00;0
LOCATION:Bussloo\; DuikzoneBussloo
ORGANIZER:
SEQUENCE:1
SUMMARY:Paasduik Neptunus 1 april 2024 (Bussloo)
TRANSP:OPAQUE
URL:https://www.owg-neptunus.nl/index.php/component/icagenda/819-paasduik-n
 eptunus-1-april-2024?Itemid=101
END:VEVENT
END:VCALENDAR
