BEGIN:VCALENDAR
VERSION:2.0
PRODID:-//Onderwatergroep Neptunus//NONSGML kigkonsult.se iCalcreator 2.30.
 10//
CALSCALE:GREGORIAN
METHOD:PUBLISH
UID:a75469f2-06e9-438f-8389-723bee827c94
X-WR-CALNAME:iCagenda
X-WR-CALDESC:Event Management Extension for Joomla!
X-WR-RELCALID:3E26604A-50F4-4449-8B3E-E4F4932D05B5
X-WR-TIMEZONE:Europe/Amsterdam
BEGIN:VTIMEZONE
TZID:Europe/Amsterdam
BEGIN:STANDARD
TZNAME:CET
DTSTART:20231029T030000
TZOFFSETFROM:+0200
TZOFFSETTO:+0100
RDATE:20241027T030000
END:STANDARD
BEGIN:DAYLIGHT
TZNAME:CEST
DTSTART:20230326T020000
TZOFFSETFROM:+0100
TZOFFSETTO:+0200
RDATE:20240331T020000
RDATE:20250330T020000
END:DAYLIGHT
END:VTIMEZONE
BEGIN:VEVENT
UID:dd83f600-d87b-4e93-9376-22144315d0e7
DTSTAMP:20260420T120008Z
CATEGORIES:Bestuur
CLASS:PUBLIC
DESCRIPTION:
DTSTART:20240226T190000Z
DTEND:20240226T210000Z
GEO:00;0
LOCATION:Kulturhus Hasselo\, Woodstraat 62\, 7558 CP Hengelo
ORGANIZER:
SEQUENCE:1
SUMMARY:Algemene ledenvergadering OWG-Neptunus 26 februari 2024
TRANSP:OPAQUE
URL:https://www.owg-neptunus.nl/index.php/component/icagenda/816-algemene-l
 edenvergadering-owg-neptunus-26-februari-2024?Itemid=101
END:VEVENT
END:VCALENDAR
