BEGIN:VCALENDAR
VERSION:2.0
PRODID:-//Onderwatergroep Neptunus//NONSGML kigkonsult.se iCalcreator 2.30.
 10//
CALSCALE:GREGORIAN
METHOD:PUBLISH
UID:33913bd5-a557-40cc-89db-b8895282cdd6
X-WR-CALNAME:iCagenda
X-WR-CALDESC:Event Management Extension for Joomla!
X-WR-RELCALID:3E26604A-50F4-4449-8B3E-E4F4932D05B5
X-WR-TIMEZONE:Europe/Amsterdam
BEGIN:VTIMEZONE
TZID:Europe/Amsterdam
BEGIN:STANDARD
TZNAME:CET
DTSTART:20231029T030000
TZOFFSETFROM:+0200
TZOFFSETTO:+0100
RDATE:20241027T030000
END:STANDARD
BEGIN:DAYLIGHT
TZNAME:CEST
DTSTART:20230326T020000
TZOFFSETFROM:+0100
TZOFFSETTO:+0200
RDATE:20240331T020000
RDATE:20250330T020000
END:DAYLIGHT
END:VTIMEZONE
BEGIN:VEVENT
UID:09a9ec81-df8d-46fa-a699-87fc2f0e9778
DTSTAMP:20260420T133551Z
CATEGORIES:Doelgroepenbad
CLASS:PUBLIC
DESCRIPTION:
DTSTART:20240120T160000Z
DTEND:20240120T170000Z
GEO:00;0
LOCATION:Twentebad
ORGANIZER:
SEQUENCE:1
SUMMARY:Snorkel- en conditietraining Twentebad
TRANSP:OPAQUE
URL:https://www.owg-neptunus.nl/index.php/component/icagenda/790-snorkel-en
 -conditietraining-twentebad/2024-01-20-17-00?Itemid=101
END:VEVENT
END:VCALENDAR
