BEGIN:VCALENDAR
VERSION:2.0
PRODID:-//Onderwatergroep Neptunus//NONSGML kigkonsult.se iCalcreator 2.30.
 10//
CALSCALE:GREGORIAN
METHOD:PUBLISH
UID:abf6e01f-706b-45c1-bf58-56f4e743f13c
X-WR-CALNAME:iCagenda
X-WR-CALDESC:Event Management Extension for Joomla!
X-WR-RELCALID:3E26604A-50F4-4449-8B3E-E4F4932D05B5
X-WR-TIMEZONE:Europe/Amsterdam
BEGIN:VTIMEZONE
TZID:Europe/Amsterdam
BEGIN:STANDARD
TZNAME:CET
DTSTART:20231029T030000
TZOFFSETFROM:+0200
TZOFFSETTO:+0100
RDATE:20241027T030000
END:STANDARD
BEGIN:DAYLIGHT
TZNAME:CEST
DTSTART:20230326T020000
TZOFFSETFROM:+0100
TZOFFSETTO:+0200
RDATE:20240331T020000
RDATE:20250330T020000
END:DAYLIGHT
END:VTIMEZONE
BEGIN:VEVENT
UID:bd992e19-b86e-4c5f-bb34-88f4dcf21f68
DTSTAMP:20260420T133551Z
CATEGORIES:Evenementen
CLASS:PUBLIC
DESCRIPTION;ALTREP="CID:<FFFF__=0ABBE548DFE235B58f9e8a93d@coffeebean.com>":
 Zoals gebruikelijk gaan we met de liefhebbers op deze eerste zondag van he
 t jaar wandelen. Familieleden en vrienden zijn van harte welkom om mee te 
 lopen. We hebben een wandeling uitgezet van ruim een uur in rondom het Hul
 sbeek. Onderweg is er zoals gebruikelijk de warme chocolademelk (met een k
 ruidenbitter voor de liefhebber). We verzamelen om 10.30 uur op Parkeerpla
 ats 4\, Bornsedijk 400\, OldenzaalDaarna gaan we met elkaar (op eigen kost
 en) pannenkoeken eten bij Klein Afrika (om circa 12.30 uur. Adres: Oude Al
 meloseweg 6\, 7576 PE Oldenzaal.Je kunt je belangstelling kenbaar maken vi
 a de website  of rechtstreeks bij de organisatoren Michel Leussink of Paul
  Horsthuis.We kijken uit naar een mooie wandeling\, goede gesprekken onder
 weg en een lekkere pannenkoek.
DTSTART:20240107T093000Z
DTEND:20240107T120000Z
GEO:00;0
LOCATION:Hulsbeek\; Parkeerplaats 4\, Bornsedijk 400\, Oldenzaal
ORGANIZER;CN=:paul@horsthuis.nl
SEQUENCE:1
SUMMARY:Nieuwjaarswandeling Neptunus 7 januari 2024
TRANSP:OPAQUE
URL:https://www.owg-neptunus.nl/index.php/component/icagenda/787-nieuwjaars
 wandeling-neptunus-7-januari-2024?Itemid=101
END:VEVENT
END:VCALENDAR
