BEGIN:VCALENDAR
VERSION:2.0
PRODID:-//Onderwatergroep Neptunus//NONSGML kigkonsult.se iCalcreator 2.30.
 10//
CALSCALE:GREGORIAN
METHOD:PUBLISH
UID:21183cfd-53a6-4f8b-aba1-10b43d812a87
X-WR-CALNAME:iCagenda
X-WR-CALDESC:Event Management Extension for Joomla!
X-WR-RELCALID:3E26604A-50F4-4449-8B3E-E4F4932D05B5
X-WR-TIMEZONE:Europe/Amsterdam
BEGIN:VTIMEZONE
TZID:Europe/Amsterdam
BEGIN:STANDARD
TZNAME:CET
DTSTART:20231029T030000
TZOFFSETFROM:+0200
TZOFFSETTO:+0100
RDATE:20241027T030000
END:STANDARD
BEGIN:DAYLIGHT
TZNAME:CEST
DTSTART:20230326T020000
TZOFFSETFROM:+0100
TZOFFSETTO:+0200
RDATE:20240331T020000
RDATE:20250330T020000
END:DAYLIGHT
END:VTIMEZONE
BEGIN:VEVENT
UID:2b74a908-5328-484b-a725-9f53799fc0bd
DTSTAMP:20260420T162538Z
CATEGORIES:Evenementen
CLASS:PUBLIC
DESCRIPTION;ALTREP="CID:<FFFF__=0ABBE548DFE235B58f9e8a93d@coffeebean.com>":
 Datum:   5 november 2023Tijd:        15.00 - 19.00 uur\n\nPlaats:    Blokh
 ut Scouting Sint Christoffel               Uitslagweg 191 te Hengelo\nWe z
 orgen voor drankjes\, een hapje en tot slot voor een smaakvol stampotbuffe
 t.Je gaat dus met een volle buik naar huis en je hoeft niet zelf te koken!
 ! Entertainment: foto's en filmpjes gemaakt door leden Neptunus\; een pubq
 uiz en een kampvuur.De eigen bijdrage voor het buffet en drankjes bedraagt
  € 7\,50 p.p.Dit bedrag is is ten opzichte van de eerdere uitnodiging omla
 ag bijgesteldomdat de definitieve offerte voor het stampotbuffet lager uit
 viel dan eerder begroot.We rekenen af met een 'tikkie'.In verband met de b
 estellingen stellen wij het op prijs dat je je uiterlijk voor 1 november m
 et onderstaand e-mailadres aanmeldt en aangeeft of je partner meekomt. Aan
 melden kan via: info@owg-neptunus.nl\nInmiddels hebben we 28 aanmeldingen 
 binnen.\n \nZien we je dan? \nHet feestcomité:Joost De Vries en Erik Spijk
 ers
DTSTART:20231105T140000Z
DTEND:20231105T180000Z
GEO:00;0
LOCATION:Blokhut Scouting Sint Christoffel\, Uitslagweg 191 in Hengelo
ORGANIZER:
SEQUENCE:1
SUMMARY:Jaarfeest Neptunus 5 november 2023
TRANSP:OPAQUE
URL:https://www.owg-neptunus.nl/index.php/component/icagenda/781-jaarfeest-
 neptunus-5-november-2023?Itemid=101
END:VEVENT
END:VCALENDAR
