BEGIN:VCALENDAR
VERSION:2.0
PRODID:-//Onderwatergroep Neptunus//NONSGML kigkonsult.se iCalcreator 2.30.
 10//
CALSCALE:GREGORIAN
METHOD:PUBLISH
UID:71807bbe-53e8-4a29-bba4-3db43c5bd88d
X-WR-CALNAME:iCagenda
X-WR-CALDESC:Event Management Extension for Joomla!
X-WR-RELCALID:3E26604A-50F4-4449-8B3E-E4F4932D05B5
X-WR-TIMEZONE:Europe/Amsterdam
BEGIN:VTIMEZONE
TZID:Europe/Amsterdam
BEGIN:STANDARD
TZNAME:CET
DTSTART:20221030T030000
TZOFFSETFROM:+0200
TZOFFSETTO:+0100
RDATE:20231029T030000
RDATE:20241027T030000
END:STANDARD
BEGIN:DAYLIGHT
TZNAME:CEST
DTSTART:20230326T020000
TZOFFSETFROM:+0100
TZOFFSETTO:+0200
RDATE:20240331T020000
RDATE:20250330T020000
END:DAYLIGHT
END:VTIMEZONE
BEGIN:VEVENT
UID:40cc78b4-ff4f-4f20-bdd0-353609d6d095
DTSTAMP:20260420T191351Z
CATEGORIES:Duiken
CLASS:PUBLIC
DESCRIPTION:
DTSTART:20231008T080000Z
DTEND:20231008T100000Z
GEO:00;0
LOCATION:Bussloselaan\; Bussloo
ORGANIZER:
SEQUENCE:1
SUMMARY:Buitenduik Bussloo
TRANSP:OPAQUE
URL:https://www.owg-neptunus.nl/index.php/component/icagenda/778-buitenduik
 -bussloo-12?Itemid=101
END:VEVENT
END:VCALENDAR
