BEGIN:VCALENDAR
VERSION:2.0
PRODID:-//Onderwatergroep Neptunus//NONSGML kigkonsult.se iCalcreator 2.30.
 10//
CALSCALE:GREGORIAN
METHOD:PUBLISH
UID:febdf3e0-0e93-4ecf-9d0d-1e2cc9b76e86
X-WR-CALNAME:iCagenda
X-WR-CALDESC:Event Management Extension for Joomla!
X-WR-RELCALID:3E26604A-50F4-4449-8B3E-E4F4932D05B5
X-WR-TIMEZONE:Europe/Amsterdam
BEGIN:VTIMEZONE
TZID:Europe/Amsterdam
BEGIN:STANDARD
TZNAME:CET
DTSTART:20221030T030000
TZOFFSETFROM:+0200
TZOFFSETTO:+0100
RDATE:20231029T030000
RDATE:20241027T030000
END:STANDARD
BEGIN:DAYLIGHT
TZNAME:CEST
DTSTART:20230326T020000
TZOFFSETFROM:+0100
TZOFFSETTO:+0200
RDATE:20240331T020000
END:DAYLIGHT
END:VTIMEZONE
BEGIN:VEVENT
UID:9f528829-a8f5-4478-9c11-6df979b04cc2
DTSTAMP:20260420T132011Z
CATEGORIES:Duiken Belangrijk
CLASS:PUBLIC
DESCRIPTION:
DTSTART:20230616T090000Z
DTEND:20230618T130000Z
GEO:00;0
LOCATION:camping De Witte Boulevard in Renesse.
ORGANIZER:
SEQUENCE:1
SUMMARY:Zeelandweekend Neptunus 2023
TRANSP:OPAQUE
URL:https://www.owg-neptunus.nl/index.php/component/icagenda/762-zeelandwee
 kend-neptunus-2024?Itemid=101
END:VEVENT
END:VCALENDAR
