BEGIN:VCALENDAR
VERSION:2.0
PRODID:-//Onderwatergroep Neptunus//NONSGML kigkonsult.se iCalcreator 2.30.
 10//
CALSCALE:GREGORIAN
METHOD:PUBLISH
UID:b643fbe1-2c73-4e8d-88b3-7f07ac68307d
X-WR-CALNAME:iCagenda
X-WR-CALDESC:Event Management Extension for Joomla!
X-WR-RELCALID:3E26604A-50F4-4449-8B3E-E4F4932D05B5
X-WR-TIMEZONE:Europe/Amsterdam
BEGIN:VTIMEZONE
TZID:Europe/Amsterdam
BEGIN:STANDARD
TZNAME:CET
DTSTART:20221030T030000
TZOFFSETFROM:+0200
TZOFFSETTO:+0100
RDATE:20231029T030000
END:STANDARD
BEGIN:DAYLIGHT
TZNAME:CEST
DTSTART:20230326T020000
TZOFFSETFROM:+0100
TZOFFSETTO:+0200
RDATE:20240331T020000
END:DAYLIGHT
END:VTIMEZONE
BEGIN:VEVENT
UID:86c99595-6371-47b5-8003-2e6209e2a4ce
DTSTAMP:20260420T103516Z
CATEGORIES:Duiken
CLASS:PUBLIC
DESCRIPTION:
DTSTART:20230423T080000Z
DTEND:20230423T103000Z
GEO:00;0
LOCATION:Bronsbergen 25\, 7207 AD Zutphen
ORGANIZER:
SEQUENCE:1
SUMMARY:Buitenduik Bronsbergenmeer
TRANSP:OPAQUE
URL:https://www.owg-neptunus.nl/index.php/component/icagenda/756-buitenduik
 -bronsbergenmeer-8?Itemid=101
END:VEVENT
END:VCALENDAR
