BEGIN:VCALENDAR
VERSION:2.0
PRODID:-//Onderwatergroep Neptunus//NONSGML kigkonsult.se iCalcreator 2.30.
 10//
CALSCALE:GREGORIAN
METHOD:PUBLISH
UID:ee9cf66e-29c5-4b77-b9ec-4ea91648569e
X-WR-CALNAME:iCagenda
X-WR-CALDESC:Event Management Extension for Joomla!
X-WR-RELCALID:3E26604A-50F4-4449-8B3E-E4F4932D05B5
X-WR-TIMEZONE:Europe/Amsterdam
BEGIN:VTIMEZONE
TZID:Europe/Amsterdam
BEGIN:STANDARD
TZNAME:CET
DTSTART:20221030T030000
TZOFFSETFROM:+0200
TZOFFSETTO:+0100
RDATE:20231029T030000
RDATE:20241027T030000
END:STANDARD
BEGIN:DAYLIGHT
TZNAME:CEST
DTSTART:20230326T020000
TZOFFSETFROM:+0100
TZOFFSETTO:+0200
RDATE:20240331T020000
END:DAYLIGHT
END:VTIMEZONE
BEGIN:VEVENT
UID:da0f80d3-14a8-416a-9ed4-4bad084352bb
DTSTAMP:20260420T132239Z
CATEGORIES:Duiken
CLASS:PUBLIC
DESCRIPTION:
DTSTART:20230625T083000Z
DTEND:20230625T103000Z
GEO:00;0
LOCATION:Bussloo
ORGANIZER:
SEQUENCE:1
SUMMARY:Buitenduik Bussloo
TRANSP:OPAQUE
URL:https://www.owg-neptunus.nl/index.php/component/icagenda/755-buitenduik
 -bussloo-11?Itemid=101
END:VEVENT
END:VCALENDAR
