BEGIN:VCALENDAR
VERSION:2.0
PRODID:-//Onderwatergroep Neptunus//NONSGML kigkonsult.se iCalcreator 2.30.
 10//
CALSCALE:GREGORIAN
METHOD:PUBLISH
UID:eeaf96a6-adf9-442e-89a1-8796f24e9c41
X-WR-CALNAME:iCagenda
X-WR-CALDESC:Event Management Extension for Joomla!
X-WR-RELCALID:3E26604A-50F4-4449-8B3E-E4F4932D05B5
X-WR-TIMEZONE:Europe/Amsterdam
BEGIN:VTIMEZONE
TZID:Europe/Amsterdam
BEGIN:STANDARD
TZNAME:CET
DTSTART:20221030T030000
TZOFFSETFROM:+0200
TZOFFSETTO:+0100
RDATE:20231029T030000
RDATE:20241027T030000
END:STANDARD
BEGIN:DAYLIGHT
TZNAME:CEST
DTSTART:20230326T020000
TZOFFSETFROM:+0100
TZOFFSETTO:+0200
RDATE:20240331T020000
END:DAYLIGHT
END:VTIMEZONE
BEGIN:VEVENT
UID:ee654a0b-4174-41a3-beee-4b88b56ccb50
DTSTAMP:20260422T112827Z
CATEGORIES:Duiken
CLASS:PUBLIC
DESCRIPTION:
DTSTART:20230529T080000Z
DTEND:20230529T103000Z
GEO:00;0
LOCATION:Grasbroekweg 1\, 7627 RC Bornerbroek
ORGANIZER:
SEQUENCE:1
SUMMARY:Buitenduik Grasbroek\, 2e Pinksterdag
TRANSP:OPAQUE
URL:https://www.owg-neptunus.nl/index.php/component/icagenda/751-buitenduik
 -grasbroek-7?Itemid=101
END:VEVENT
END:VCALENDAR
