BEGIN:VCALENDAR
VERSION:2.0
PRODID:-//Onderwatergroep Neptunus//NONSGML kigkonsult.se iCalcreator 2.30.
 10//
CALSCALE:GREGORIAN
METHOD:PUBLISH
UID:ce0e6e2d-2cf0-4762-b1aa-dd85c516b112
X-WR-CALNAME:iCagenda
X-WR-CALDESC:Event Management Extension for Joomla!
X-WR-RELCALID:3E26604A-50F4-4449-8B3E-E4F4932D05B5
X-WR-TIMEZONE:Europe/Amsterdam
BEGIN:VTIMEZONE
TZID:Europe/Amsterdam
BEGIN:STANDARD
TZNAME:CET
DTSTART:20221030T030000
TZOFFSETFROM:+0200
TZOFFSETTO:+0100
RDATE:20231029T030000
RDATE:20241027T030000
END:STANDARD
BEGIN:DAYLIGHT
TZNAME:CEST
DTSTART:20230326T020000
TZOFFSETFROM:+0100
TZOFFSETTO:+0200
RDATE:20240331T020000
END:DAYLIGHT
END:VTIMEZONE
BEGIN:VEVENT
UID:3cec329c-f2fa-4075-8b1f-7da97bb9f8d8
DTSTAMP:20260420T132010Z
CATEGORIES:Evenementen
CLASS:PUBLIC
DESCRIPTION;ALTREP="CID:<FFFF__=0ABBE548DFE235B58f9e8a93d@coffeebean.com>":
 Wij organiseren in het weekend van vrijdag 16 juni t/m maandag 19 juni wee
 r ons jaarlijkse Zeelandweekend.\nWij hebben een optie genomen op 2x een 6
 -persoons chalets op camping De Witte Boulevard in Renesse.\nDe kosten van
  dit weekend zijn € 130\,= p.p.\nSamen duiken en de gezelligheid van Zeela
 nd en Renesse ervaren.\nWij zorgen voor een gevulde koelkast voor ontbijt.
 \nVoor het avondeten moet je zelf zorgen of kun je eventueel in Renesse ee
 n hapje eten.\n \nLijkt jou het leuk om samen met andere duikers van Neptu
 nus een weekend onder en boven water  door te brengen\, meld je dan aan bi
 j mij door het bedrag\nvan € 130\,= p.p. over te maken naar NL93 RABO 0179
  1014 12\n(Aanmelden voor 28 januari omdat anders de optie vervalt)\nEn oo
 k even een mail of apje naar mij te sturen.\n \nMail: jose.bijkerk@gmail.c
 om (dus niet deze nieuwsbrief beantwoorden)\nof  Mob.: 06 36 54 95 74\n \n
 Voor de meeste mensen is het allemaal wel bekend. Voor de nieuwe leden bij
  interesse kun je altijd voor meer informatie bij mij of René terecht.\n 
 \nGroetjes\nJosé en René
DTSTART:20230616T080000Z
DTEND:20230619T120000Z
GEO:00;0
LOCATION:camping De Witte Boulevard in Renesse.
ORGANIZER;CN=:jose.bijkerk@gmail.com
SEQUENCE:1
SUMMARY:Zeelandweekend Neptunus 2023
TRANSP:OPAQUE
URL:https://www.owg-neptunus.nl/index.php/component/icagenda/748-zeelandwee
 kend-neptunus-2023?Itemid=101
END:VEVENT
END:VCALENDAR
