BEGIN:VCALENDAR
VERSION:2.0
PRODID:-//Onderwatergroep Neptunus//NONSGML kigkonsult.se iCalcreator 2.30.
 10//
CALSCALE:GREGORIAN
METHOD:PUBLISH
UID:df390fd2-0652-4fe3-b405-f59048de0c8d
X-WR-CALNAME:iCagenda
X-WR-CALDESC:Event Management Extension for Joomla!
X-WR-RELCALID:3E26604A-50F4-4449-8B3E-E4F4932D05B5
X-WR-TIMEZONE:Europe/Amsterdam
BEGIN:VTIMEZONE
TZID:Europe/Amsterdam
BEGIN:STANDARD
TZNAME:CET
DTSTART:20221030T030000
TZOFFSETFROM:+0200
TZOFFSETTO:+0100
RDATE:20231029T030000
END:STANDARD
BEGIN:DAYLIGHT
TZNAME:CEST
DTSTART:20220327T020000
TZOFFSETFROM:+0100
TZOFFSETTO:+0200
RDATE:20230326T020000
RDATE:20240331T020000
END:DAYLIGHT
END:VTIMEZONE
BEGIN:VEVENT
UID:e215c5d7-eba5-4c04-bffc-ec83ffbf7bca
DTSTAMP:20260420T115824Z
CATEGORIES:Bestuur
CLASS:PUBLIC
DESCRIPTION:
DTSTART:20230306T190000Z
DTEND:20230306T203000Z
GEO:00;0
LOCATION:Kulturhus Hasselo\, Henry Woodstraat 62 7558 CP Hengelo.
ORGANIZER:
SEQUENCE:1
SUMMARY:Algemene ledenvergadering Neptunus
TRANSP:OPAQUE
URL:https://www.owg-neptunus.nl/index.php/component/icagenda/746-algemene-l
 edenvergadering-neptunus?Itemid=101
END:VEVENT
END:VCALENDAR
