BEGIN:VCALENDAR
VERSION:2.0
PRODID:-//Onderwatergroep Neptunus//NONSGML kigkonsult.se iCalcreator 2.30.
 10//
CALSCALE:GREGORIAN
METHOD:PUBLISH
UID:43db8be4-5f30-46da-a33a-2924f3d4bc31
X-WR-CALNAME:iCagenda
X-WR-CALDESC:Event Management Extension for Joomla!
X-WR-RELCALID:3E26604A-50F4-4449-8B3E-E4F4932D05B5
X-WR-TIMEZONE:Europe/Amsterdam
BEGIN:VTIMEZONE
TZID:Europe/Amsterdam
BEGIN:STANDARD
TZNAME:CET
DTSTART:20221030T030000
TZOFFSETFROM:+0200
TZOFFSETTO:+0100
RDATE:20231029T030000
END:STANDARD
BEGIN:DAYLIGHT
TZNAME:CEST
DTSTART:20220327T020000
TZOFFSETFROM:+0100
TZOFFSETTO:+0200
RDATE:20230326T020000
RDATE:20240331T020000
END:DAYLIGHT
END:VTIMEZONE
BEGIN:VEVENT
UID:255619e0-5d5c-4166-a4b3-69e4805fa1fe
DTSTAMP:20260420T115833Z
CATEGORIES:Dive World
CLASS:PUBLIC
DESCRIPTION:
DTSTART:20230310T180000Z
DTEND:20230310T200000Z
GEO:00;0
LOCATION:Colosseum 72\, 7521 P\,T Enschede
ORGANIZER:
SEQUENCE:1
SUMMARY:Duiktoren Dive World
TRANSP:OPAQUE
URL:https://www.owg-neptunus.nl/index.php/component/icagenda/727-duiktoren-
 dive-world-3?Itemid=101
END:VEVENT
END:VCALENDAR
