BEGIN:VCALENDAR
VERSION:2.0
PRODID:-//Onderwatergroep Neptunus//NONSGML kigkonsult.se iCalcreator 2.30.
 10//
CALSCALE:GREGORIAN
METHOD:PUBLISH
UID:f7158d4c-1a14-4dcd-bbff-19daf14477c0
X-WR-CALNAME:iCagenda
X-WR-CALDESC:Event Management Extension for Joomla!
X-WR-RELCALID:3E26604A-50F4-4449-8B3E-E4F4932D05B5
X-WR-TIMEZONE:Europe/Amsterdam
BEGIN:VTIMEZONE
TZID:Europe/Amsterdam
BEGIN:STANDARD
TZNAME:CET
DTSTART:20211031T030000
TZOFFSETFROM:+0200
TZOFFSETTO:+0100
RDATE:20221030T030000
RDATE:20231029T030000
END:STANDARD
BEGIN:DAYLIGHT
TZNAME:CEST
DTSTART:20220327T020000
TZOFFSETFROM:+0100
TZOFFSETTO:+0200
RDATE:20230326T020000
RDATE:20240331T020000
END:DAYLIGHT
END:VTIMEZONE
BEGIN:VEVENT
UID:b224a719-2735-4dda-9b40-0caff62deee2
DTSTAMP:20260420T192014Z
CATEGORIES:Duiken Belangrijk
CLASS:PUBLIC
DESCRIPTION;ALTREP="CID:<FFFF__=0ABBE548DFE235B58f9e8a93d@coffeebean.com>":
 Duikevenement NaturaGart\, zondag 9 oktober 2022Nabij Ibbenbüren is een er
 g gave duiklocatie NaturaGart. Dit is één van de grootste kunstmatige duik
 bassins in Europa en er is hier een parcours met steenformaties en veel vi
 ssen. Enkele leden zijn daar al een paar keer keren geweest en hebben daar
  een mooie duikervaring opgedaan.Het lijkt ons leuk om daar met andere led
 en van Neptunus naar toe te gaan. Gaby Bruins en Paul Horsthuis organisere
 n dit evenement.De kosten van de reis en entree e.d. zijn wel voor eigen r
 ekening.Vanaf Hengelo is het ongeveer 70 km rijden met een reistijd van on
 geveer 1 uur. De kosten voor een dagpas op zondag bedragen € 40\,-  Voor m
 eer informatie verwijzen we naar onderstaande links.NaturaGart: https://ww
 w.naturagart.de/Tauchpark/Duikgids: https://www.duikersgids.nl/naturagartD
 uiken in het onderwaterpark | NaturaGart tv-| Video over duikimpressies bi
 j NaturaGartDuikcentrum | NaturaGart Park | Vijverpark in IbbenbürenPrijze
 n | NaturaGart Duikpark | Duiken in het onderwaterparkRegistratie | Natura
 Gart Duikpark | Duiken in het onderwaterparkVind je het leuk om mee te gaa
 n geef je dan uiterlijk voor 1 september 2022 bij een van beiden op. (gaby
 bruins@hotmail.com / paul@horsthuis.nl )Daarna geven we ons collectief op 
 en maken we verdere afspraken.
DTSTART:20221009T063000Z
DTEND:20221009T150000Z
GEO:00;0
LOCATION:
ORGANIZER:
SEQUENCE:1
SUMMARY:Buitenduik NaturaGart
TRANSP:OPAQUE
URL:https://www.owg-neptunus.nl/index.php/component/icagenda/717-buitenduik
 -naturagart?Itemid=101
END:VEVENT
END:VCALENDAR
