BEGIN:VCALENDAR
VERSION:2.0
PRODID:-//Onderwatergroep Neptunus//NONSGML kigkonsult.se iCalcreator 2.30.
 10//
CALSCALE:GREGORIAN
METHOD:PUBLISH
UID:d1bf7be5-5138-4c23-928f-fa2c2edeeeb3
X-WR-CALNAME:iCagenda
X-WR-CALDESC:Event Management Extension for Joomla!
X-WR-RELCALID:3E26604A-50F4-4449-8B3E-E4F4932D05B5
X-WR-TIMEZONE:Europe/Amsterdam
BEGIN:VTIMEZONE
TZID:Europe/Amsterdam
BEGIN:STANDARD
TZNAME:CET
DTSTART:20211031T030000
TZOFFSETFROM:+0200
TZOFFSETTO:+0100
RDATE:20221030T030000
RDATE:20231029T030000
END:STANDARD
BEGIN:DAYLIGHT
TZNAME:CEST
DTSTART:20220327T020000
TZOFFSETFROM:+0100
TZOFFSETTO:+0200
RDATE:20230326T020000
RDATE:20240331T020000
END:DAYLIGHT
END:VTIMEZONE
BEGIN:VEVENT
UID:5827f988-38c3-4893-8c55-a835137d2864
DTSTAMP:20260420T192009Z
CATEGORIES:Evenementen
CLASS:PUBLIC
DESCRIPTION;ALTREP="CID:<FFFF__=0ABBE548DFE235B58f9e8a93d@coffeebean.com>":
 Jaarfeest Neptunus\, zondag 23 oktober 2022 We hebben nog steeds ons jubil
 eumfeest tegoed. Vanwege coronabeperkingen hebben we dit feest enkele kere
 n moeten uitstellen. In de verwachting dat er nu geen coronabeperkingen zi
 jn\, organiseren we dit jubileumfeest op zondagmiddag 23 oktober 2022. Tij
 d: 14.30 uur tot 19.00 uur. Locatie: DiveWorld. Liefhebbers kunnen wat eer
 der vanaf 14.00 tot 15.00 uur een duik maken. Na ontvangst met koffie /the
 e en wat lekkers erbij trakteren we jullie graag op een buffet.
DTSTART:20221023T120000Z
DTEND:20221023T170000Z
GEO:00;0
LOCATION:Diveworld\, Colosseum 72\, 7521 P\,T Enschede
ORGANIZER:
SEQUENCE:1
SUMMARY:Jaarfeest zondag 23 oktober 2022
TRANSP:OPAQUE
URL:https://www.owg-neptunus.nl/index.php/component/icagenda/706-jaarfeest-
 zondag-23-oktober-2022?Itemid=101
END:VEVENT
END:VCALENDAR
