BEGIN:VCALENDAR
VERSION:2.0
PRODID:-//Onderwatergroep Neptunus//NONSGML kigkonsult.se iCalcreator 2.30.
 10//
CALSCALE:GREGORIAN
METHOD:PUBLISH
UID:99970fa6-1553-4c15-8f2d-4decc5373f76
X-WR-CALNAME:iCagenda
X-WR-CALDESC:Event Management Extension for Joomla!
X-WR-RELCALID:3E26604A-50F4-4449-8B3E-E4F4932D05B5
X-WR-TIMEZONE:Europe/Amsterdam
BEGIN:VTIMEZONE
TZID:Europe/Amsterdam
BEGIN:STANDARD
TZNAME:CET
DTSTART:20211031T030000
TZOFFSETFROM:+0200
TZOFFSETTO:+0100
RDATE:20221030T030000
RDATE:20231029T030000
END:STANDARD
BEGIN:DAYLIGHT
TZNAME:CEST
DTSTART:20220327T020000
TZOFFSETFROM:+0100
TZOFFSETTO:+0200
RDATE:20230326T020000
END:DAYLIGHT
END:VTIMEZONE
BEGIN:VEVENT
UID:646f9862-a980-4851-b5bf-3bf0b1e4a91e
DTSTAMP:20260420T174812Z
CATEGORIES:Duiken
CLASS:PUBLIC
DESCRIPTION:
DTSTART:20220821T080000Z
DTEND:20220821T103000Z
GEO:00;0
LOCATION:Grasbroek
ORGANIZER:
SEQUENCE:1
SUMMARY:Buitenduik Grasbroek
TRANSP:OPAQUE
URL:https://www.owg-neptunus.nl/index.php/component/icagenda/704-buitenduik
 -grasbroek-4?Itemid=101
END:VEVENT
END:VCALENDAR
