BEGIN:VCALENDAR
VERSION:2.0
PRODID:-//Onderwatergroep Neptunus//NONSGML kigkonsult.se iCalcreator 2.30.
 10//
CALSCALE:GREGORIAN
METHOD:PUBLISH
UID:65f2888b-1cd2-46ec-b386-1f2798c9e174
X-WR-CALNAME:iCagenda
X-WR-CALDESC:Event Management Extension for Joomla!
X-WR-RELCALID:3E26604A-50F4-4449-8B3E-E4F4932D05B5
X-WR-TIMEZONE:Europe/Amsterdam
BEGIN:VTIMEZONE
TZID:Europe/Amsterdam
BEGIN:STANDARD
TZNAME:CET
DTSTART:20211031T030000
TZOFFSETFROM:+0200
TZOFFSETTO:+0100
RDATE:20221030T030000
RDATE:20231029T030000
END:STANDARD
BEGIN:DAYLIGHT
TZNAME:CEST
DTSTART:20220327T020000
TZOFFSETFROM:+0100
TZOFFSETTO:+0200
RDATE:20230326T020000
RDATE:20240331T020000
END:DAYLIGHT
END:VTIMEZONE
BEGIN:VEVENT
UID:92dcf9e8-edb5-474d-a493-b0e19178cb15
DTSTAMP:20260420T192014Z
CATEGORIES:Doelgroepenbad
CLASS:PUBLIC
DESCRIPTION:
DTSTART:20221015T150000Z
DTEND:20221015T160000Z
GEO:00;0
LOCATION:Twentebad\, Hengelo
ORGANIZER:
SEQUENCE:1
SUMMARY:snorkel- en conditietraining
TRANSP:OPAQUE
URL:https://www.owg-neptunus.nl/index.php/component/icagenda/695-snorkel-en
 -conditietraining-5?Itemid=101
END:VEVENT
END:VCALENDAR
