BEGIN:VCALENDAR
VERSION:2.0
PRODID:-//Onderwatergroep Neptunus//NONSGML kigkonsult.se iCalcreator 2.30.
 10//
CALSCALE:GREGORIAN
METHOD:PUBLISH
UID:c999449c-c104-4b9f-8dcf-d47c35b31150
X-WR-CALNAME:iCagenda
X-WR-CALDESC:Event Management Extension for Joomla!
X-WR-RELCALID:3E26604A-50F4-4449-8B3E-E4F4932D05B5
X-WR-TIMEZONE:Europe/Amsterdam
BEGIN:VTIMEZONE
TZID:Europe/Amsterdam
BEGIN:STANDARD
TZNAME:CET
DTSTART:20211031T030000
TZOFFSETFROM:+0200
TZOFFSETTO:+0100
RDATE:20221030T030000
RDATE:20231029T030000
END:STANDARD
BEGIN:DAYLIGHT
TZNAME:CEST
DTSTART:20220327T020000
TZOFFSETFROM:+0100
TZOFFSETTO:+0200
RDATE:20230326T020000
END:DAYLIGHT
END:VTIMEZONE
BEGIN:VEVENT
UID:5e013194-d520-4b2b-98b9-f76cb9252907
DTSTAMP:20260420T145923Z
CATEGORIES:Duiken
CLASS:PUBLIC
DESCRIPTION:
DTSTART:20220508T080000Z
DTEND:20220508T110000Z
GEO:00;0
LOCATION:Bronsbergen 25\, 7207 AD Zutphen
ORGANIZER:
SEQUENCE:1
SUMMARY:buitenduik Bronsbergenmeer
TRANSP:OPAQUE
URL:https://www.owg-neptunus.nl/index.php/component/icagenda/677-buitenduik
 -bronsbergenmeer-2/2022-05-08-10-00?Itemid=101
END:VEVENT
END:VCALENDAR
