BEGIN:VCALENDAR
VERSION:2.0
PRODID:-//Onderwatergroep Neptunus//NONSGML kigkonsult.se iCalcreator 2.30.
 10//
CALSCALE:GREGORIAN
METHOD:PUBLISH
UID:db75f84f-4c1b-4569-a82f-14de801ddd9c
X-WR-CALNAME:iCagenda
X-WR-CALDESC:Event Management Extension for Joomla!
X-WR-RELCALID:3E26604A-50F4-4449-8B3E-E4F4932D05B5
X-WR-TIMEZONE:Europe/Amsterdam
BEGIN:VTIMEZONE
TZID:Europe/Amsterdam
BEGIN:STANDARD
TZNAME:CET
DTSTART:20211031T030000
TZOFFSETFROM:+0200
TZOFFSETTO:+0100
RDATE:20221030T030000
END:STANDARD
BEGIN:DAYLIGHT
TZNAME:CEST
DTSTART:20210328T020000
TZOFFSETFROM:+0100
TZOFFSETTO:+0200
RDATE:20220327T020000
RDATE:20230326T020000
END:DAYLIGHT
END:VTIMEZONE
BEGIN:VEVENT
UID:b5896143-f50e-48ad-a09e-8617325291cc
DTSTAMP:20260420T162513Z
CATEGORIES:Evenementen
CLASS:PUBLIC
DESCRIPTION:
DTSTART:20220102T090000Z
DTEND:20220102T130000Z
GEO:00;0
LOCATION:Nader te bepalen
ORGANIZER;CN=:paul@horsthuis.nl
SEQUENCE:1
SUMMARY:Vervallen Nieuwjaarswandeling 2 januari 2022
TRANSP:OPAQUE
URL:https://www.owg-neptunus.nl/index.php/component/icagenda/673-nieuwjaars
 wandeling-2-januari-2022?Itemid=101
END:VEVENT
END:VCALENDAR
