BEGIN:VCALENDAR
VERSION:2.0
PRODID:-//Onderwatergroep Neptunus//NONSGML kigkonsult.se iCalcreator 2.30.
 10//
CALSCALE:GREGORIAN
METHOD:PUBLISH
UID:82715ccc-2d45-4a4e-b477-87f543e7367d
X-WR-CALNAME:iCagenda
X-WR-CALDESC:Event Management Extension for Joomla!
X-WR-RELCALID:3E26604A-50F4-4449-8B3E-E4F4932D05B5
X-WR-TIMEZONE:Europe/Amsterdam
BEGIN:VTIMEZONE
TZID:Europe/Amsterdam
BEGIN:STANDARD
TZNAME:CET
DTSTART:20211031T030000
TZOFFSETFROM:+0200
TZOFFSETTO:+0100
RDATE:20221030T030000
END:STANDARD
BEGIN:DAYLIGHT
TZNAME:CEST
DTSTART:20210328T020000
TZOFFSETFROM:+0100
TZOFFSETTO:+0200
RDATE:20220327T020000
RDATE:20230326T020000
END:DAYLIGHT
END:VTIMEZONE
BEGIN:VEVENT
UID:0b865b2a-7b3c-40b1-a530-766ff6a24cf0
DTSTAMP:20260420T162421Z
CATEGORIES:Doelgroepenbad
CLASS:PUBLIC
DESCRIPTION:
DTSTART:20220108T160000Z
DTEND:20220108T170000Z
GEO:00;0
LOCATION:Twentebad Hengelo
ORGANIZER:
SEQUENCE:1
SUMMARY:snorkel- en conditietrainign vervalt vanwege covid-19 maatregelen
TRANSP:OPAQUE
URL:https://www.owg-neptunus.nl/index.php/component/icagenda/645-snorkel-en
 -conditietrainig?Itemid=101
END:VEVENT
END:VCALENDAR
