BEGIN:VCALENDAR
VERSION:2.0
PRODID:-//Onderwatergroep Neptunus//NONSGML kigkonsult.se iCalcreator 2.30.
 10//
CALSCALE:GREGORIAN
METHOD:PUBLISH
UID:69907ad7-a43d-474b-a86b-f1d77abf1db7
X-WR-CALNAME:iCagenda
X-WR-CALDESC:Event Management Extension for Joomla!
X-WR-RELCALID:3E26604A-50F4-4449-8B3E-E4F4932D05B5
X-WR-TIMEZONE:Europe/Amsterdam
BEGIN:VTIMEZONE
TZID:Europe/Amsterdam
BEGIN:STANDARD
TZNAME:CET
DTSTART:20211031T030000
TZOFFSETFROM:+0200
TZOFFSETTO:+0100
RDATE:20221030T030000
END:STANDARD
BEGIN:DAYLIGHT
TZNAME:CEST
DTSTART:20210328T020000
TZOFFSETFROM:+0100
TZOFFSETTO:+0200
RDATE:20220327T020000
RDATE:20230326T020000
END:DAYLIGHT
END:VTIMEZONE
BEGIN:VEVENT
UID:0d7a3d97-00a0-43b8-8c55-57baec1669e0
DTSTAMP:20260420T190145Z
CATEGORIES:Evenementen
CLASS:PUBLIC
DESCRIPTION;ALTREP="CID:<FFFF__=0ABBE548DFE235B58f9e8a93d@coffeebean.com>":
 Inmiddels hebben zich 25 deelnemers voor deze reis opgegeven (Status: 16-0
 8-20210. Zij zijn over het programma en dergelijke apart geïnformeerd. Het
  is de bedoeling dat we gezamenlijk met de bus daar naar toe gaan. Mocht j
 e toch nog belangstelling hebben dan kun je dat bij Paul Horsthuis aangeve
 n. We bekijken dan of er bij Todi nog ruimte is voor extra deelnemers.\n 
 \nMeer informatie: Todi | The ultimate experience
DTSTART:20211107T070000Z
DTEND:20211107T170000Z
GEO:00;0
LOCATION:Beringen\, België
ORGANIZER;CN=:paul@horsthuis.nl
SEQUENCE:1
SUMMARY:60-jarig Jubileumreis Todi\, zondag 7 november 2021
TRANSP:OPAQUE
URL:https://www.owg-neptunus.nl/index.php/component/icagenda/642-jubileumre
 is-todi?Itemid=101
END:VEVENT
END:VCALENDAR
