BEGIN:VCALENDAR
VERSION:2.0
PRODID:-//Onderwatergroep Neptunus//NONSGML kigkonsult.se iCalcreator 2.30.
 10//
CALSCALE:GREGORIAN
METHOD:PUBLISH
UID:9ee79fe3-8d6d-4225-916f-2757cd94aaff
X-WR-CALNAME:iCagenda
X-WR-CALDESC:Event Management Extension for Joomla!
X-WR-RELCALID:3E26604A-50F4-4449-8B3E-E4F4932D05B5
X-WR-TIMEZONE:Europe/Amsterdam
BEGIN:VTIMEZONE
TZID:Europe/Amsterdam
BEGIN:STANDARD
TZNAME:CET
DTSTART:20211031T030000
TZOFFSETFROM:+0200
TZOFFSETTO:+0100
RDATE:20221030T030000
END:STANDARD
BEGIN:DAYLIGHT
TZNAME:CEST
DTSTART:20210328T020000
TZOFFSETFROM:+0100
TZOFFSETTO:+0200
RDATE:20220327T020000
RDATE:20230326T020000
END:DAYLIGHT
END:VTIMEZONE
BEGIN:VEVENT
UID:511a446e-8aec-4d20-a7eb-fbd50aad5b25
DTSTAMP:20260420T205024Z
CATEGORIES:Duiken
CLASS:PUBLIC
DESCRIPTION:
DTSTART:20211031T090000Z
DTEND:20211031T110000Z
GEO:00;0
LOCATION:Bronsbergen\, Zutphen
ORGANIZER:
SEQUENCE:1
SUMMARY:Buitenduik Bronsbergenmeer
TRANSP:OPAQUE
URL:https://www.owg-neptunus.nl/index.php/component/icagenda/641-buitenduik
 -bronsbergenmeer?Itemid=101
END:VEVENT
END:VCALENDAR
