BEGIN:VCALENDAR
VERSION:2.0
PRODID:-//Onderwatergroep Neptunus//NONSGML kigkonsult.se iCalcreator 2.30.
 10//
CALSCALE:GREGORIAN
METHOD:PUBLISH
UID:6445e2be-1f1b-48e9-8f37-09d85fd87361
X-WR-CALNAME:iCagenda
X-WR-CALDESC:Event Management Extension for Joomla!
X-WR-RELCALID:3E26604A-50F4-4449-8B3E-E4F4932D05B5
X-WR-TIMEZONE:Europe/Amsterdam
BEGIN:VTIMEZONE
TZID:Europe/Amsterdam
BEGIN:STANDARD
TZNAME:CET
DTSTART:20211031T030000
TZOFFSETFROM:+0200
TZOFFSETTO:+0100
RDATE:20221030T030000
END:STANDARD
BEGIN:DAYLIGHT
TZNAME:CEST
DTSTART:20210328T020000
TZOFFSETFROM:+0100
TZOFFSETTO:+0200
RDATE:20220327T020000
RDATE:20230326T020000
END:DAYLIGHT
END:VTIMEZONE
BEGIN:VEVENT
UID:352bce92-f748-4aa7-a2bf-5d27502de2c2
DTSTAMP:20260420T190009Z
CATEGORIES:Dive World
CLASS:PUBLIC
DESCRIPTION:
DTSTART:20211112T180000Z
DTEND:20211112T200000Z
GEO:00;0
LOCATION:Colosseum 72\, 7521 P\,T Enschede
ORGANIZER:
SEQUENCE:1
SUMMARY:Duiktoren Dive World
TRANSP:OPAQUE
URL:https://www.owg-neptunus.nl/index.php/component/icagenda/628-duiktoren-
 dive-world?Itemid=101
END:VEVENT
END:VCALENDAR
