BEGIN:VCALENDAR
VERSION:2.0
PRODID:-//Onderwatergroep Neptunus//NONSGML kigkonsult.se iCalcreator 2.30.
 10//
CALSCALE:GREGORIAN
METHOD:PUBLISH
UID:3db372cf-8d2d-48db-97b2-b5599aa0936d
X-WR-CALNAME:iCagenda
X-WR-CALDESC:Event Management Extension for Joomla!
X-WR-RELCALID:3E26604A-50F4-4449-8B3E-E4F4932D05B5
X-WR-TIMEZONE:Europe/Amsterdam
BEGIN:VTIMEZONE
TZID:Europe/Amsterdam
BEGIN:STANDARD
TZNAME:CET
DTSTART:20201025T030000
TZOFFSETFROM:+0200
TZOFFSETTO:+0100
RDATE:20211031T030000
RDATE:20221030T030000
END:STANDARD
BEGIN:DAYLIGHT
TZNAME:CEST
DTSTART:20210328T020000
TZOFFSETFROM:+0100
TZOFFSETTO:+0200
RDATE:20220327T020000
END:DAYLIGHT
END:VTIMEZONE
BEGIN:VEVENT
UID:0f49e27a-a9d4-4989-9d2b-626850876e50
DTSTAMP:20260420T162330Z
CATEGORIES:Doelgroepenbad
CLASS:PUBLIC
DESCRIPTION:
DTSTART:20210515T150000Z
DTEND:20210515T160000Z
GEO:00;0
LOCATION:Twentebad Hengelo
ORGANIZER:
SEQUENCE:1
SUMMARY:Training vervalt vanwege Covid-19 beperkingen
TRANSP:OPAQUE
URL:https://www.owg-neptunus.nl/index.php/component/icagenda/605-snorkel-en
 -conditietraining?Itemid=101
END:VEVENT
END:VCALENDAR
