BEGIN:VCALENDAR
VERSION:2.0
PRODID:-//Onderwatergroep Neptunus//NONSGML kigkonsult.se iCalcreator 2.30.
 10//
CALSCALE:GREGORIAN
METHOD:PUBLISH
UID:36c38d65-727b-41ba-aa43-4d9b7993cc49
X-WR-CALNAME:iCagenda
X-WR-CALDESC:Event Management Extension for Joomla!
X-WR-RELCALID:3E26604A-50F4-4449-8B3E-E4F4932D05B5
X-WR-TIMEZONE:Europe/Amsterdam
BEGIN:VTIMEZONE
TZID:Europe/Amsterdam
BEGIN:STANDARD
TZNAME:CET
DTSTART:20191027T030000
TZOFFSETFROM:+0200
TZOFFSETTO:+0100
RDATE:20201025T030000
RDATE:20211031T030000
END:STANDARD
BEGIN:DAYLIGHT
TZNAME:CEST
DTSTART:20200329T020000
TZOFFSETFROM:+0100
TZOFFSETTO:+0200
RDATE:20210328T020000
END:DAYLIGHT
END:VTIMEZONE
BEGIN:VEVENT
UID:011bb11a-c638-4aca-82f9-5f7ce06e7b71
DTSTAMP:20260421T042859Z
CATEGORIES:Duiken
CLASS:PUBLIC
DESCRIPTION:
DTSTART:20200906T080000Z
DTEND:20200906T110000Z
GEO:00;0
LOCATION:Grasbroek\; Grasbroekweg 1\, Bornebroek
ORGANIZER:
SEQUENCE:1
SUMMARY:Buitenduik Grasbroek
TRANSP:OPAQUE
URL:https://www.owg-neptunus.nl/index.php/component/icagenda/565-buitenduik
 -grasbroek?Itemid=101
END:VEVENT
END:VCALENDAR
