BEGIN:VCALENDAR
VERSION:2.0
PRODID:-//Onderwatergroep Neptunus//NONSGML kigkonsult.se iCalcreator 2.30.
 10//
CALSCALE:GREGORIAN
METHOD:PUBLISH
UID:e39bf9be-29aa-49c0-9ed5-24230d22ab3b
X-WR-CALNAME:iCagenda
X-WR-CALDESC:Event Management Extension for Joomla!
X-WR-RELCALID:3E26604A-50F4-4449-8B3E-E4F4932D05B5
X-WR-TIMEZONE:Europe/Amsterdam
BEGIN:VTIMEZONE
TZID:Europe/Amsterdam
BEGIN:STANDARD
TZNAME:CET
DTSTART:20191027T030000
TZOFFSETFROM:+0200
TZOFFSETTO:+0100
RDATE:20201025T030000
RDATE:20211031T030000
END:STANDARD
BEGIN:DAYLIGHT
TZNAME:CEST
DTSTART:20200329T020000
TZOFFSETFROM:+0100
TZOFFSETTO:+0200
RDATE:20210328T020000
RDATE:20220327T020000
END:DAYLIGHT
END:VTIMEZONE
BEGIN:VEVENT
UID:036d9f89-1740-4665-b914-968c8146279c
DTSTAMP:20260421T024955Z
CATEGORIES:Evenementen
CLASS:PUBLIC
DESCRIPTION;ALTREP="CID:<FFFF__=0ABBE548DFE235B58f9e8a93d@coffeebean.com>":
 Beste Todigangers\,Vanwege de coronacrisis hebben we dit voorjaar moeten b
 esluiten om het Todi-evenement af te lassen. Begin juli leek het aantal be
 smettingen af te nemen waardoor er weer de mogelijkheid om het evenement t
 e organiseren. Na onze uitnodiging voor 27 september hebben zich  23 deeln
 emers voor dit evenement aangemeld. Uiteraard bestaat er nog steeds een ri
 sico op een toename van het aantal coronabesmettingen. Deze kunnen mogelij
 k leiden tot de noodzaak tot meer voorzichtigheid. We volgen dan ook de ov
 erheidsmaatregelen op de voet. We zullen de deelnemers tijdig informeren o
 ver eventuele ontwikkelingen die van invloed zijn op het al dan niet kunne
 n doorgaan van dit evenement. Desalniettemin hopen wij van harte dat we na
 ar Todi kunnen en met elkaar op een prachtige beleving kunnen terugkijken.
  \nProgramma\nDatum: Zondag 27 september 2020.\nVertrek Hengelo: 8.00 uur\
 ; vertrekplaats: BWO Oldenzaalsestraat (tegenover China Tuin\; achterste p
 arkeerplaats).\nVervoer Om onze reis zo leuk mogelijk te laten verlopen he
 bben gaan we met de bus. Hiervoor geldt een Corona-protocol. De deelnemers
  zullen wij hierover informeren.De kosten zijn voor rekening van de vereni
 ging. Wel vragen we voor iedereen die meegaat € 20\,-.Er zijn enkele leden
  die met eigen vervoer gaan.\nAankomst Todi: circa 11.00 uur.Iedereen is a
 angemeld bij Todi. Met Todi worden rechtstreeks afspraken over de aanmeldi
 ng en registratie gemaakt.  We hopen dan ook dat we hierdoor efficiënt toe
 gang tot het duikgedeelte krijgen.\nGroepsfoto Indien we zijn omgekleed\, 
 zou het mooi zijn dat we van onze groep  voordat we het water ingaan een f
 oto kunnen maken.\nDuiken: het tijdslot 12.00 uur tot 14.00 uur is voor on
 s gereserveerd.  Hierna hebben we 2 uur toegang tot de zogenaamde ‘ ‘Exper
 ienceZone’. Binnen deze tijd (dus vóo’r 14.00 uur) moet je je duik hebben 
 afgerond\,  je van TODI verkregen / gehuurd materiaal hebben ingeleverd en
  je te hebben aangekleed.  Indien je langer verblijft\, zijn daar extra ko
 sten aan verbonden (€ 10 voor ieder begonnen kwartier extra). Deze zijn da
 n voor eigen rekening.\nBrevetten Neem voor de zekerheid je duikbrevet mee
 . Willen de instructeurs in ieder geval hun instructeursbrevet meenemen?\n
 VerzekeringAlle leden van Neptunus zijn via de NOB verzekerd. Voor introdu
 cees is een dagverzekering geregeld.\nMateriaal Todi verstrekt een duikfle
 s\, trimvest en lood. Ander duikmateriaal moet je zelf meenemen. Vanwege d
 e temperatuur wordt een neopreenpak van 5 tot 7 mm dikte aanbevolen  Denk 
 eraan dat je je pak voor de terugweg ergens in kunt verpakken waardoor het
  niet lekt. Zie voor meer informatie: https://www.todi.be/nl/onderwaterspo
 rt/duiken/. Onderaan deze mail heb ik nog eens voor de zekerheid ook prakt
 ische informatie bijgevoegd.\nLunch vanaf 14.00 uur We zijn met meer dan 1
 5 personen en daarom kunnen we gebruik maken van een aanbieding waarbij ee
 n ‘duiksessie en een heerlijke lunch’ voor € 45 wordt aangeboden.Meer info
  over de Brasserie kun je vinden onder: https://www.todi-brasserie.be/\nKo
 sten  Vanwege ons 60-jarig jubileum betaalt Neptunus voor de leden de entr
 eekosten en de kosten voor de lunch (buffet) € 45\,-. Kosten voor andere c
 onsumpties zijn voor eigen rekening.  De introducees gaan voor eigen reken
 ing mee. Neptunus zal deze kosten gemakshalve eerst voorschieten.Zoals hie
 rboven vermeld hebben we een aparte regeling voor de gezamenlijke reis met
  de bus.\nVertrek Todi: circa 15.00 uur.\nTerugkomst Hengelo: circa 18.00 
 uur.\nWarme maaltijd en evaluatie van de dag: voor de liefhebbers die het 
 leuk vinden om gezamenlijk (op eigen kosten) af te ronden is het idee dat 
 te doen bij China Tuin. Dat is tegenover onze parkeerplaats in Hengelo.\nD
 ie zondag vragen we wie er mee gaat\, zodat we voor deze groep kunnen rese
 rveren..\n \nIndien jullie nog vragen hebben horen we dat graag.\n \nMet h
 artelijke groet\,\n \nHet organiserend comité\nJan Grob en Paul Horsthuis
 \n \n \nInformatie van TODI\nTODI in het Belgische Beringen levert een pra
 chtige bijdrage aan de duiksport. Bij TODI duik je indoor als in een tropi
 sche rivier. Je duikt in water\, met een temperatuur van 24 graden\, tusse
 n autowrakken\, grotjes\, een mijngang en ‘s werelds mooiste tropische zoe
 twatervissen.\n Je duikt in TODI in warm water onder ideale omstandigheden
 . Alles is tot in de puntjes geregeld\, van douches\, kleedruimten\, locke
 rs en toiletvoorzieningen tot materiaalverhuur en een uitstekend restauran
 t met het lekkerste bier. De watertemperatuur bedraagt in TODI 24 graden e
 n je duikt tussen duizenden kleurrijke tropische vissen. Perfecte omstandi
 gheden voor een funduik\,\nProper materiaal\nBreng gerust je eigen materia
 al mee. Hieronder vind je een lijstje van wat er allemaal mee binnen mag:
 \n\nNat pak\nNeopreen kap\nHandschoenen\nGesloten zwembadvinnen\nSnorkel\n
 Masker\nDuikkap\nAdemhalingsapparatuur\nKompas\nLamp\nComputer\nFilm- en f
 otomateriaal (enkel voor de fun\, niet voor professionele doeleinden)\n\nA
 ndere spullen (zoals duikflessen\, OSB\, rebreather\, droogpak\, scherpe v
 oorwerpen\, openwatervinnen en botjes …) hoef je niet mee te sleuren. We v
 ragen toch om die in de auto te laten.\n\nJe wilt echt niet weten hoe vuil
  je materiaal kan worden. Het zit snel vol bacteriën en daar zijn onze vis
 sen niet dol op. Ontsmetten is de boodschap en dat kun je rustig bij ons d
 oen\, voor je in het water gaat. Onderdompelen in de wasbak\, grondig nasp
 oelen in de spoelbak of onder de douche en klaar is Kees!\nControleer en t
 est je eigen materiaal voor je thuis vertrekt. Als je niet zeker bent dat 
 het goed werkt\, maar ook als het niet CE-gekeurd is\, dan laat je het bet
 er thuis.\nEen duikfles\, lood\, BCD of trimvest krijg je van ons. Zonder 
 discussie.\nAl de rest kun je huren. TODI kiest voor goede merken en onder
 houdt alles netjes\, voor jou. Geef je het na gebruik terug zoals je het i
 n handen kreeg? Dank je wel!  \n\n \nDuur? Een duikbeurt duurt 2 uur. Als 
 je langer in de ‘Experience Zone’ bleef\, dan betaal je € 10 per begonnen 
 kwartier bij.\nWat breng je mee? Zwemkledij en badhanddoek\nInbegrepen in 
 de prijs? Omdat de binnenkant van een trimvest nooit helemaal ontsmet kan 
 worden\, vragen we aan iedereen om enkel trimvesten of BCD van TODI te geb
 ruiken. Dat is nodig om infecties te vermijden\, eventuele ziektes buiten 
 te houden en om onze biologische filterinstallatie zo weinig mogelijk te b
 elasten. Ook een duikfles en lood krijg je van ons.\nNiet inbegrepen in de
  prijs? Duikpak\, ademautomatenset\, computer\, masker\, tuba\, vinnen\nBr
 eng sowieso elke keer je brevet mee en je verzekeringsbewijs. Als je (nog)
  geen verzekering hebt\, dan kun je dat bij TODI voor 5 euro in orde breng
 en. Ook vragen we je te bevestigen of je medisch geschikt bent om te duike
 n.\nPraktisch?\n\nPolsbandje: Je krijgt van ons een gekleurd polsbandje. D
 at geeft je toegang tot de ‘Experience Zone’\, waar de onderwaterpret begi
 nt. Draag je polsbandje altijd zichtbaar. \nKleedkamers: Je doet je zwemkl
 eding aan en laat je andere spullen achter in een locker die je kunt opene
 n en afsluiten met je polsbandje. Dan ga je blootsvoets met de trap of de 
 lift naar de vierde verdieping\, richting duikbassin of instructiebad. Als
  je eigen duikmateriaal hebt\, dan neem je dat mee.\nAan het bassin: Gehuu
 rd materiaal kun je afhalen in de verhuurzone. Stap door het voetbad\, ond
 er de douche en dan je materiaal ontsmetten. Dat doe je door het onder te 
 dompelen in de wasbak en grondig na te spoelen in de spoelbak of onder de 
 douche. Voor je met je uitrusting het water ingaat\, vragen we je om nog e
 ens onder de douche te passeren. Dat vinden onze vissen fijn.\nNa je duikb
 eurt: Na je duik plaats je de fles\, het lood\, het trimvest of BCD en all
 e eventueel gehuurde materiaal terug waar je het gevonden hebt. Daarna kle
 ed je je weer om in de kleedkamers op het gelijkvloers en je deponeert je 
 polsbandje in de daartoe voorziene bus. Doe je dat binnen de termijn van 2
  uur (zoals gereserveerd).\n\n \n \n Achtergrondinformatie: https://www.du
 ikersgids.nl/todi-198
DTSTART:20200927T053000Z
DTEND:20200927T160000Z
GEO:00;0
LOCATION:
ORGANIZER:
SEQUENCE:1
SUMMARY:Todi: Beringen\, België (gaat niet door vanwege Covid 19 risico's)
TRANSP:OPAQUE
URL:https://www.owg-neptunus.nl/index.php/component/icagenda/561-todi-belgi
 e?Itemid=101
END:VEVENT
END:VCALENDAR
