BEGIN:VCALENDAR
VERSION:2.0
PRODID:-//Onderwatergroep Neptunus//NONSGML kigkonsult.se iCalcreator 2.30.
 10//
CALSCALE:GREGORIAN
METHOD:PUBLISH
UID:9c33ff07-54af-498f-847f-d928391071f8
X-WR-CALNAME:iCagenda
X-WR-CALDESC:Event Management Extension for Joomla!
X-WR-RELCALID:3E26604A-50F4-4449-8B3E-E4F4932D05B5
X-WR-TIMEZONE:Europe/Amsterdam
BEGIN:VTIMEZONE
TZID:Europe/Amsterdam
BEGIN:STANDARD
TZNAME:CET
DTSTART:20191027T030000
TZOFFSETFROM:+0200
TZOFFSETTO:+0100
RDATE:20201025T030000
END:STANDARD
BEGIN:DAYLIGHT
TZNAME:CEST
DTSTART:20200329T020000
TZOFFSETFROM:+0100
TZOFFSETTO:+0200
RDATE:20210328T020000
END:DAYLIGHT
END:VTIMEZONE
BEGIN:VEVENT
UID:c0b22d21-012c-470f-84dc-4924e7cd6a24
DTSTAMP:20260420T162442Z
CATEGORIES:Duiken
CLASS:PUBLIC
DESCRIPTION;ALTREP="CID:<FFFF__=0ABBE548DFE235B58f9e8a93d@coffeebean.com>":
 Paasduik maandag 13 april 2020 Dit jaar organiseren wij als bestuur graag 
 weer eens de traditionele Paasduik. We gaan naar het Grasbroek en we verza
 melen aldaar om 10.00 uur. Na afloop van de duik trakteren we jullie op ee
 n broodje met worst.
DTSTART:20200413T080000Z
DTEND:20200413T110000Z
GEO:00;0
LOCATION:Grasbroek
ORGANIZER:
SEQUENCE:1
SUMMARY:Paasduik\, 1e Buitenduik
TRANSP:OPAQUE
URL:https://www.owg-neptunus.nl/index.php/component/icagenda/553-paasduik-1
 e-buitenduik?Itemid=101
END:VEVENT
END:VCALENDAR
