BEGIN:VCALENDAR
VERSION:2.0
PRODID:-//Onderwatergroep Neptunus//NONSGML kigkonsult.se iCalcreator 2.30.
 10//
CALSCALE:GREGORIAN
METHOD:PUBLISH
UID:564e7cda-fb6a-42af-91bb-ca06886d917f
X-WR-CALNAME:iCagenda
X-WR-CALDESC:Event Management Extension for Joomla!
X-WR-RELCALID:3E26604A-50F4-4449-8B3E-E4F4932D05B5
X-WR-TIMEZONE:Europe/Amsterdam
BEGIN:VTIMEZONE
TZID:Europe/Amsterdam
BEGIN:STANDARD
TZNAME:CET
DTSTART:20191027T030000
TZOFFSETFROM:+0200
TZOFFSETTO:+0100
RDATE:20201025T030000
END:STANDARD
BEGIN:DAYLIGHT
TZNAME:CEST
DTSTART:20200329T020000
TZOFFSETFROM:+0100
TZOFFSETTO:+0200
RDATE:20210328T020000
END:DAYLIGHT
END:VTIMEZONE
BEGIN:VEVENT
UID:c374f838-e05f-4b4d-99bb-254ec9aaa3b7
DTSTAMP:20260420T162534Z
CATEGORIES:Doelgroepenbad
CLASS:PUBLIC
DESCRIPTION:
DTSTART:20200404T150000Z
DTEND:20200404T150100Z
GEO:00;0
LOCATION:Twentebad Hengelo
ORGANIZER:
SEQUENCE:1
SUMMARY:Geen training
TRANSP:OPAQUE
URL:https://www.owg-neptunus.nl/index.php/component/icagenda/542-snorkel-en
 -conditietraining-en-recreatiebad?Itemid=101
END:VEVENT
END:VCALENDAR
