BEGIN:VCALENDAR
VERSION:2.0
PRODID:-//Onderwatergroep Neptunus//NONSGML kigkonsult.se iCalcreator 2.30.
 10//
CALSCALE:GREGORIAN
METHOD:PUBLISH
UID:d0ee2832-1634-4018-82ba-37c7e2abd5c3
X-WR-CALNAME:iCagenda
X-WR-CALDESC:Event Management Extension for Joomla!
X-WR-RELCALID:3E26604A-50F4-4449-8B3E-E4F4932D05B5
X-WR-TIMEZONE:Europe/Amsterdam
BEGIN:VTIMEZONE
TZID:Europe/Amsterdam
BEGIN:STANDARD
TZNAME:CET
DTSTART:20181028T030000
TZOFFSETFROM:+0200
TZOFFSETTO:+0100
RDATE:20191027T030000
RDATE:20201025T030000
END:STANDARD
BEGIN:DAYLIGHT
TZNAME:CEST
DTSTART:20190331T020000
TZOFFSETFROM:+0100
TZOFFSETTO:+0200
RDATE:20200329T020000
END:DAYLIGHT
END:VTIMEZONE
BEGIN:VEVENT
UID:b2535193-dd8f-42cb-b0cd-393898b2157e
DTSTAMP:20260421T025215Z
CATEGORIES:Duiken
CLASS:PUBLIC
DESCRIPTION:
DTSTART:20190922T080000Z
DTEND:20190922T100000Z
GEO:+51.851208;+5.694008
LOCATION:Groene Heuvels
ORGANIZER:
SEQUENCE:1
SUMMARY:Buitenduik Groene Heuvels
TRANSP:OPAQUE
URL:https://www.owg-neptunus.nl/index.php/component/icagenda/521-buitenduik
 -groene-heuvels?Itemid=101
END:VEVENT
END:VCALENDAR
