BEGIN:VCALENDAR
VERSION:2.0
PRODID:-//Onderwatergroep Neptunus//NONSGML kigkonsult.se iCalcreator 2.30.
 10//
CALSCALE:GREGORIAN
METHOD:PUBLISH
UID:a67993cb-7640-498e-8217-27be6f8acbeb
X-WR-CALNAME:iCagenda
X-WR-CALDESC:Event Management Extension for Joomla!
X-WR-RELCALID:3E26604A-50F4-4449-8B3E-E4F4932D05B5
X-WR-TIMEZONE:Europe/Amsterdam
BEGIN:VTIMEZONE
TZID:Europe/Amsterdam
BEGIN:STANDARD
TZNAME:CET
DTSTART:20181028T030000
TZOFFSETFROM:+0200
TZOFFSETTO:+0100
RDATE:20191027T030000
RDATE:20201025T030000
END:STANDARD
BEGIN:DAYLIGHT
TZNAME:CEST
DTSTART:20190331T020000
TZOFFSETFROM:+0100
TZOFFSETTO:+0200
RDATE:20200329T020000
END:DAYLIGHT
END:VTIMEZONE
BEGIN:VEVENT
UID:7382248b-cd19-4ad4-a276-81d51693effd
DTSTAMP:20260421T025312Z
CATEGORIES:Duiken
CLASS:PUBLIC
DESCRIPTION:
DTSTART:20190915T080000Z
DTEND:20190915T100000Z
GEO:+52.117931;+6.214635
LOCATION:Bronsbergenmeer Noord
ORGANIZER:
SEQUENCE:1
SUMMARY:Buitenduik Bronsbergenmeer Noord
TRANSP:OPAQUE
URL:https://www.owg-neptunus.nl/index.php/component/icagenda/520-buitenduik
 -bronsbergenmeer-noord?Itemid=101
END:VEVENT
END:VCALENDAR
