BEGIN:VCALENDAR
VERSION:2.0
PRODID:-//Onderwatergroep Neptunus//NONSGML kigkonsult.se iCalcreator 2.30.
 10//
CALSCALE:GREGORIAN
METHOD:PUBLISH
UID:8986c044-89a2-406b-8d5b-bcc4396645d0
X-WR-CALNAME:iCagenda
X-WR-CALDESC:Event Management Extension for Joomla!
X-WR-RELCALID:3E26604A-50F4-4449-8B3E-E4F4932D05B5
X-WR-TIMEZONE:Europe/Amsterdam
BEGIN:VTIMEZONE
TZID:Europe/Amsterdam
BEGIN:STANDARD
TZNAME:CET
DTSTART:20191027T030000
TZOFFSETFROM:+0200
TZOFFSETTO:+0100
RDATE:20201025T030000
END:STANDARD
BEGIN:DAYLIGHT
TZNAME:CEST
DTSTART:20190331T020000
TZOFFSETFROM:+0100
TZOFFSETTO:+0200
RDATE:20200329T020000
RDATE:20210328T020000
END:DAYLIGHT
END:VTIMEZONE
BEGIN:VEVENT
UID:bbbdb5fd-a154-462d-9b34-b6948240b4f9
DTSTAMP:20260420T220845Z
CATEGORIES:Doelgroepenbad
CLASS:PUBLIC
DESCRIPTION:
DTSTART:20191123T160000Z
DTEND:20191123T170000Z
GEO:00;0
LOCATION:Twentebad
ORGANIZER:
SEQUENCE:1
SUMMARY:Snorkel- en conditietraining
TRANSP:OPAQUE
URL:https://www.owg-neptunus.nl/index.php/component/icagenda/513-snorkel-en
 -conditietraining?Itemid=101
END:VEVENT
END:VCALENDAR
