BEGIN:VCALENDAR
VERSION:2.0
PRODID:-//Onderwatergroep Neptunus//NONSGML kigkonsult.se iCalcreator 2.30.
 10//
CALSCALE:GREGORIAN
METHOD:PUBLISH
UID:a2f8ac73-2297-471c-b33c-d61e1451e72d
X-WR-CALNAME:iCagenda
X-WR-CALDESC:Event Management Extension for Joomla!
X-WR-RELCALID:3E26604A-50F4-4449-8B3E-E4F4932D05B5
X-WR-TIMEZONE:Europe/Amsterdam
BEGIN:VTIMEZONE
TZID:Europe/Amsterdam
BEGIN:STANDARD
TZNAME:CET
DTSTART:20181028T030000
TZOFFSETFROM:+0200
TZOFFSETTO:+0100
RDATE:20191027T030000
RDATE:20201025T030000
END:STANDARD
BEGIN:DAYLIGHT
TZNAME:CEST
DTSTART:20190331T020000
TZOFFSETFROM:+0100
TZOFFSETTO:+0200
RDATE:20200329T020000
END:DAYLIGHT
END:VTIMEZONE
BEGIN:VEVENT
UID:dff2eaa8-0650-4193-9945-15f6a7a5f9ff
DTSTAMP:20260421T042550Z
CATEGORIES:Dive World
CLASS:PUBLIC
DESCRIPTION:
DTSTART:20190913T170000Z
DTEND:20190913T190000Z
GEO:+52.240047;+6.832423
LOCATION:Enschede
ORGANIZER:
SEQUENCE:1
SUMMARY:Flessentraining
TRANSP:OPAQUE
URL:https://www.owg-neptunus.nl/index.php/component/icagenda/499-flessentra
 ining?Itemid=101
END:VEVENT
END:VCALENDAR
