BEGIN:VCALENDAR
VERSION:2.0
PRODID:-//Onderwatergroep Neptunus//NONSGML kigkonsult.se iCalcreator 2.30.
 10//
CALSCALE:GREGORIAN
METHOD:PUBLISH
UID:4a8145d8-8651-423e-929c-ece1ce48ebac
X-WR-CALNAME:iCagenda
X-WR-CALDESC:Event Management Extension for Joomla!
X-WR-RELCALID:3E26604A-50F4-4449-8B3E-E4F4932D05B5
X-WR-TIMEZONE:Europe/Amsterdam
BEGIN:VTIMEZONE
TZID:Europe/Amsterdam
BEGIN:STANDARD
TZNAME:CET
DTSTART:20181028T030000
TZOFFSETFROM:+0200
TZOFFSETTO:+0100
RDATE:20191027T030000
RDATE:20201025T030000
END:STANDARD
BEGIN:DAYLIGHT
TZNAME:CEST
DTSTART:20190331T020000
TZOFFSETFROM:+0100
TZOFFSETTO:+0200
RDATE:20200329T020000
END:DAYLIGHT
END:VTIMEZONE
BEGIN:VEVENT
UID:72ad698f-2215-4395-a20d-5e21b2926916
DTSTAMP:20260420T191443Z
CATEGORIES:Duiken
CLASS:PUBLIC
DESCRIPTION:
DTSTART:20190428T080000Z
DTEND:20190428T100000Z
GEO:+52.202766;+6.120071
LOCATION:Bussloselaan 8\, Voorst
ORGANIZER:
SEQUENCE:1
SUMMARY:Buitenduik Bussloo
TRANSP:OPAQUE
URL:https://www.owg-neptunus.nl/index.php/component/icagenda/486-buitenduik
 -bussloo?Itemid=101
END:VEVENT
END:VCALENDAR
