BEGIN:VCALENDAR
VERSION:2.0
PRODID:-//Onderwatergroep Neptunus//NONSGML kigkonsult.se iCalcreator 2.30.
 10//
CALSCALE:GREGORIAN
METHOD:PUBLISH
UID:3e8a0eb4-b1ff-4b6e-8f60-cb1b810b7f3a
X-WR-CALNAME:iCagenda
X-WR-CALDESC:Event Management Extension for Joomla!
X-WR-RELCALID:3E26604A-50F4-4449-8B3E-E4F4932D05B5
X-WR-TIMEZONE:Europe/Amsterdam
BEGIN:VTIMEZONE
TZID:Europe/Amsterdam
BEGIN:STANDARD
TZNAME:CET
DTSTART:20181028T030000
TZOFFSETFROM:+0200
TZOFFSETTO:+0100
RDATE:20191027T030000
END:STANDARD
BEGIN:DAYLIGHT
TZNAME:CEST
DTSTART:20180325T020000
TZOFFSETFROM:+0100
TZOFFSETTO:+0200
RDATE:20190331T020000
RDATE:20200329T020000
END:DAYLIGHT
END:VTIMEZONE
BEGIN:VEVENT
UID:165b2ff9-e2e0-4146-8a4a-0d9404624df2
DTSTAMP:20260420T192116Z
CATEGORIES:Opleidingen Belangrijk
CLASS:PUBLIC
DESCRIPTION:
DTSTART:20190308T180000Z
DTEND:20190308T200000Z
GEO:00;0
LOCATION:DiveWorld
ORGANIZER:
SEQUENCE:1
SUMMARY:Opleidingsprogramma 1*
TRANSP:OPAQUE
URL:https://www.owg-neptunus.nl/index.php/component/icagenda/480-opleidings
 programma-1?Itemid=101
END:VEVENT
END:VCALENDAR
