BEGIN:VCALENDAR
VERSION:2.0
PRODID:-//Onderwatergroep Neptunus//NONSGML kigkonsult.se iCalcreator 2.30.
 10//
CALSCALE:GREGORIAN
METHOD:PUBLISH
UID:adb92f4a-6f53-469a-9f84-19ed765de3a7
X-WR-CALNAME:iCagenda
X-WR-CALDESC:Event Management Extension for Joomla!
X-WR-RELCALID:3E26604A-50F4-4449-8B3E-E4F4932D05B5
X-WR-TIMEZONE:Europe/Amsterdam
BEGIN:VTIMEZONE
TZID:Europe/Amsterdam
BEGIN:STANDARD
TZNAME:CET
DTSTART:20181028T030000
TZOFFSETFROM:+0200
TZOFFSETTO:+0100
RDATE:20191027T030000
END:STANDARD
BEGIN:DAYLIGHT
TZNAME:CEST
DTSTART:20180325T020000
TZOFFSETFROM:+0100
TZOFFSETTO:+0200
RDATE:20190331T020000
RDATE:20200329T020000
END:DAYLIGHT
END:VTIMEZONE
BEGIN:VEVENT
UID:f63169ac-b3fd-42b2-aaea-cb8acd8f5b7f
DTSTAMP:20260420T192235Z
CATEGORIES:Opleidingen Zwembad
CLASS:PUBLIC
DESCRIPTION:
DTSTART:20190323T160000Z
DTEND:20190323T173000Z
GEO:00;0
LOCATION:Twentebad
ORGANIZER:
SEQUENCE:1
SUMMARY:Opleiding duiken 1*
TRANSP:OPAQUE
URL:https://www.owg-neptunus.nl/index.php/component/icagenda/475-opleiding-
 duiken-1?Itemid=101
END:VEVENT
END:VCALENDAR
